BEGIN:VCALENDAR
VERSION:2.0
PRODID:-//ChamberMaster//Event Calendar 2.0//EN
METHOD:PUBLISH
X-PUBLISHED-TTL:P3D
REFRESH-INTERVAL:P3D
CALSCALE:GREGORIAN
BEGIN:VEVENT
DTSTART:20140427T220000Z
DTEND:20140428T000000Z
X-MICROSOFT-CDO-ALLDAYEVENT:FALSE
SUMMARY:15th Annual Bowlathon Fundraiser for Kids 'n Kinship
DESCRIPTION:School teams\, community teams and company teams! Join us April 27th\, 2014 OR receive a voucher to bowl at Cedarvale Lanes on your own\, at a time you choose. April 27th Schedule Sign-in\, team photos 5:00 p.m. Bowl from 5:30- 7:00 p.m. We?'l have shoes\, balls\, bumper lanes if you desire\, all you can drink pop\, all you can eat chips and the Incredibowl laser lights show with light up bumpers\, glow in the dark pins and balls! Each registered ($25) team member will receive a Kids 'n Kinship Gift Item.  Register your team here on Eventbrite then mail your registration fee ($25 per member) and any donations you collect from family and friends to Kids 'n Kinship 14870 Granada Ave\, #127\, Apple Valley\, MN 55124 OR\, bring a minimum pledge of $25 with you the day of the event. Special thanks to Cedarvale Lanes for their support!
X-ALT-DESC;FMTTYPE=text/html:School teams\, community teams and company teams! Join us April 27th\, 2014 OR receive a voucher to bowl at Cedarvale Lanes on your own\, at a time you choose. April 27th Schedule Sign-in\, team photos 5:00 p.m. Bowl from 5:30- 7:00 p.m. We?&#39\;l have shoes\, balls\, bumper lanes if you desire\, all you can drink pop\, all you can eat chips and the Incredibowl laser lights show with light up bumpers\, glow in the dark pins and balls! Each registered ($25) team member will receive a Kids &#39\;n Kinship Gift Item.&nbsp\; Register your team here on Eventbrite then mail your registration fee ($25 per member) and any donations you collect from family and friends to Kids &#39\;n Kinship 14870 Granada Ave\, #127\, Apple Valley\, MN 55124 OR\, bring a minimum pledge of $25 with you the day of the event. Special thanks to Cedarvale Lanes for their support!
LOCATION:Cedarvale Lanes 3883 Cedar Grove Parkway Eagan\, 55122
UID:e.411.666780
SEQUENCE:3
DTSTAMP:20260425T145124Z
URL:http://dev.setupsite.burnsvillechamber.com/events/details/15th-annual-bowlathon-fundraiser-for-kids-n-kinship-04-27-2014-666780
END:VEVENT

END:VCALENDAR
