BEGIN:VCALENDAR
VERSION:2.0
PRODID:-//ChamberMaster//Event Calendar 2.0//EN
METHOD:PUBLISH
X-PUBLISHED-TTL:P3D
REFRESH-INTERVAL:P3D
CALSCALE:GREGORIAN
BEGIN:VEVENT
DTSTART:20131114T230000Z
DTEND:20131114T230000Z
X-MICROSOFT-CDO-ALLDAYEVENT:FALSE
SUMMARY:2013 County Wide Chamber Small Business Expo & Business After Hours
DESCRIPTION:Join us at Mendakota Country Club on Thursday\, November 14th from 5:00pm to 7:00pm to network with other chamber members from Dakota County.  Event includes complimentary hors d'oeuvres\, a cash bar and exhibits by members from each of the participating chambers.\n\n	 \n\n	The cost to reserve an 8' table is $150\, which includes table skirting and electricity.  The fee for a free standing display is $150\, which includes electricity.  The fee for a   8' table is $90\, which includes table skirting and electricity.  Please specify if you have a floor display or if you need electricity for your booth.  Each vendor is asked to provide their own signage. \n\n	\n\n	To reserve your space\, please return this form to Maranda Bergren by fax 952-435-6972 or by email maranda@burnsvillechamber.com by Friday\, October 25th.  \n\n	\n\n	Space is limited!
X-ALT-DESC;FMTTYPE=text/html:<div class="cm_eventHeading" style="padding-top: 16px\; padding-bottom: 6px\;">\n	<span style="font-size: 12px\;"><span style="font-family: arial\;">Join us at Mendakota Country Club on Thursday\, November 14th from 5:00pm to 7:00pm to network with other chamber members from Dakota County.&nbsp\; Event includes complimentary hors d&rsquo\;oeuvres\, a cash bar and exhibits by members from each of the participating chambers.<br />\n	&nbsp\;<br />\n	The cost to reserve an 8&rsquo\; table is $150\, which includes table skirting and electricity.&nbsp\; The fee for a free standing display is $150\, which includes electricity.&nbsp\; The fee for a &frac12\; 8&rsquo\; table is $90\, which includes table skirting and electricity.&nbsp\; Please specify if you have a floor display or if you need electricity for your booth.&nbsp\; Each vendor is asked to provide their own signage.&nbsp\;<br />\n	<br />\n	<strong>To reserve your space\, please return <a href="http://cloud.chambermaster.com/userfiles/UserFiles/chambers/411/File/Business_After_Hours/2013FallCounty-wideAfterHoursFlyer.pdf">this form</a>&nbsp\;to&nbsp\;Maranda Bergren&nbsp\;by fax&nbsp\;952-435-6972 or by email&nbsp\;maranda@burnsvillechamber.com by Friday\, October 25th.&nbsp\; </strong><br />\n	<br />\n	<strong><span style="font-size: 14px\;">Space is limited!</span></strong></span></span></div>\n
LOCATION:Mendakota Country Club 2075 Mendakota Country Club\, Mendota Heights
UID:e.411.666694
SEQUENCE:3
DTSTAMP:20260426T010052Z
URL:http://dev.setupsite.burnsvillechamber.com/events/details/2013-county-wide-chamber-small-business-expo-business-after-hours-11-14-2013-666694
END:VEVENT

END:VCALENDAR
