BEGIN:VCALENDAR
VERSION:2.0
PRODID:-//ChamberMaster//Event Calendar 2.0//EN
METHOD:PUBLISH
X-PUBLISHED-TTL:P3D
REFRESH-INTERVAL:P3D
CALSCALE:GREGORIAN
BEGIN:VEVENT
DTSTART:20140313T230000Z
DTEND:20140314T030000Z
X-MICROSOFT-CDO-ALLDAYEVENT:FALSE
SUMMARY:2014 BITE of Burnsville
DESCRIPTION:The annual BITE of Burnsville \n\n	showcases the cuisine of 20 of the area's \n\n	finest establishments along with...\n\n	 \n\n	~Beverages & Signature Drinks\n\n	~Live Music \n\n	~Huge Live and Silent Auctions\n\n	\n\n	 \n\n	FOR MORE INFORMATION AND \n\n	A COMPLETE AUCTION LISTING GO TO:\n\n	 \n\n	www.BITEofBurnsville.com
X-ALT-DESC;FMTTYPE=text/html:<div align="center">\n	<font face="Tahoma" size="2"><strong>The annual BITE of Burnsville </strong></font></div>\n<div align="center">\n	<font face="Tahoma" size="2"><strong>showcases the cuisine of 20 of the area&rsquo\;s </strong></font></div>\n<div align="center">\n	<font face="Tahoma" size="2"><strong>finest establishments along with...</strong></font></div>\n<div align="center">\n	&nbsp\;</div>\n<div align="center">\n	<font face="Tahoma" size="2"><strong>~Beverages&nbsp\;&amp\; Signature Drinks</strong></font></div>\n<div align="center">\n	<font face="Tahoma" size="2"><strong>~Live Music </strong></font></div>\n<div align="center">\n	<font face="Tahoma" size="2"><strong>~</strong></font><font face="Tahoma" size="2"><strong>Huge Live and Silent Auctions</strong></font></div>\n<div align="center">\n	<br />\n	&nbsp\;</div>\n<div align="center">\n	<font face="Tahoma" size="2"><strong>FOR MORE INFORMATION AND </strong></font></div>\n<div align="center">\n	<font face="Tahoma" size="2"><strong>A COMPLETE AUCTION LISTING GO TO:</strong></font></div>\n<div align="center">\n	&nbsp\;</div>\n<div align="center">\n	<font face="Tahoma" size="3"><strong>www.BITEofBurnsville.com</strong></font></div>\n
LOCATION:Performing Arts Center Heart of the City - Burnsville
UID:e.411.666721
SEQUENCE:3
DTSTAMP:20260425T163516Z
URL:http://dev.setupsite.burnsvillechamber.com/events/details/2014-bite-of-burnsville-03-13-2014-666721
END:VEVENT

END:VCALENDAR
