BEGIN:VCALENDAR
VERSION:2.0
PRODID:-//ChamberMaster//Event Calendar 2.0//EN
METHOD:PUBLISH
X-PUBLISHED-TTL:P3D
REFRESH-INTERVAL:P3D
CALSCALE:GREGORIAN
BEGIN:VEVENT
DTSTART:20141002T160000Z
DTEND:20141003T000000Z
X-MICROSOFT-CDO-ALLDAYEVENT:FALSE
SUMMARY:2014 Chambershack Golf Tourney
DESCRIPTION:It's the Burnsville Chamber's Annual Fall Chambershack\, a "tournament for the rest of us"! Come out\, relax\, and have some fun with golfing\, games\, and even a "crazy pants" contest! Register as a foursome or individually\; we'll find a place for you!\n\n\n\nLunch is included thanks to our generous sponsor - True Choice Services!
X-ALT-DESC;FMTTYPE=text/html:It&#39\;s the Burnsville Chamber&#39\;s Annual Fall Chambershack\, a &quot\;tournament for the rest of us&quot\;! Come out\, relax\, and have some fun with golfing\, games\, and even a &quot\;crazy pants&quot\; contest! Register as a foursome or individually\; we&#39\;ll find a place for you!<br />\n<br />\nLunch is included thanks to our generous sponsor - True Choice Services!<br />\n&nbsp\;
LOCATION:Crystal Lake Golf Club 16725 Innsbrook Drive Lakeville\, MN 55044
UID:e.411.666851
SEQUENCE:3
DTSTAMP:20260425T035450Z
URL:http://dev.setupsite.burnsvillechamber.com/events/details/2014-chambershack-golf-tourney-10-02-2014-666851
END:VEVENT

END:VCALENDAR
