BEGIN:VCALENDAR
VERSION:2.0
PRODID:-//ChamberMaster//Event Calendar 2.0//EN
METHOD:PUBLISH
X-PUBLISHED-TTL:P3D
REFRESH-INTERVAL:P3D
CALSCALE:GREGORIAN
BEGIN:VEVENT
DTSTART:20141209T150000Z
DTEND:20141209T170000Z
X-MICROSOFT-CDO-ALLDAYEVENT:FALSE
SUMMARY:2014 Cyber Security - Two Steps Ahead
DESCRIPTION:The Burnsville Chamber of Commerce has partnered with the NCSA (National Cyber Security Alliance) in bringing to Minnesota their STOP. THINK. CONNECT. Two Steps Ahead: Protect Your Digital Life Tour to educate consumers and businesses about adopting simple security measures like Two-Step Authentication into their everyday lives.\n\n\n\nThe morning will feature a hands-on demonstration showing attendees how to improve their security on sites like Google\, Facebook\, Microsoft\, LinkedIn and financial institutions. The event will conclude with a panel discussion featuring local cyber security experts.
X-ALT-DESC;FMTTYPE=text/html:<span style="font-size:14px\;"><span style="font-family:tahoma\;">The Burnsville Chamber of Commerce has partnered with the NCSA (National Cyber Security Alliance) in bringing to Minnesota their STOP. THINK. CONNECT. <em>Two Steps Ahead: Protect Your Digital Life </em>Tour to educate consumers and businesses about adopting simple security measures like Two-Step Authentication into their everyday lives.<br />\n<br />\n<span style="color:black\;">The morning will feature a hands-on demonstration showing attendees how to improve their security on sites like Google\, Facebook\, Microsoft\, LinkedIn and financial institutions. The event will conclude with a panel discussion featuring local cyber&nbsp\;security experts.</span></span></span>
LOCATION:St. Paul Union Depot | Red Cap Room 214 East 4th Street St. Paul\, MN 55101
UID:e.411.666894
SEQUENCE:3
DTSTAMP:20260425T004321Z
URL:http://dev.setupsite.burnsvillechamber.com/events/details/2014-cyber-security-two-steps-ahead-12-09-2014-666894
END:VEVENT

END:VCALENDAR
