BEGIN:VCALENDAR
VERSION:2.0
PRODID:-//ChamberMaster//Event Calendar 2.0//EN
METHOD:PUBLISH
X-PUBLISHED-TTL:P3D
REFRESH-INTERVAL:P3D
CALSCALE:GREGORIAN
BEGIN:VEVENT
DTSTART:20141205T000000Z
DTEND:20141205T040000Z
X-MICROSOFT-CDO-ALLDAYEVENT:FALSE
SUMMARY:2014 Holiday Gala - "The Roaring 20's: A Black & White Affair"
DESCRIPTION:The Burnsville Chamber of Commerce Board of Directors and staff would like to cordially invite you to join them at the 2014 Holiday Gala - "The Roaring 20's: A Black & White Affair". \n\n\n\nThere'll be a cocktail hour\, photo booth\, gangsters\, a wine pour\, a DJ and a dance!\n\n\n\nFormal black and/or white attire is requested.  1920's-inspired attire is also fun\, but not required.
X-ALT-DESC;FMTTYPE=text/html:The Burnsville Chamber of Commerce Board of Directors and staff would like to cordially invite you to join them at the 2014 Holiday Gala - &quot\;The Roaring 20&#39\;s: A Black &amp\; White Affair&quot\;.&nbsp\;<br />\n<br />\nThere&#39\;ll be a cocktail hour\, photo booth\, gangsters\, a wine pour\, a DJ and a dance!<br />\n<br />\nFormal black and/or white attire is requested.&nbsp\; 1920&#39\;s-inspired attire is also fun\, but not required.<br />\n<br />\n&nbsp\;
LOCATION:Crystal Lake Golf Club 16725 Innsbrook Drive Lakeville\, MN 55044
UID:e.411.666865
SEQUENCE:3
DTSTAMP:20260425T020859Z
URL:http://dev.setupsite.burnsvillechamber.com/events/details/2014-holiday-gala-the-roaring-20-s-a-black-white-affair-12-04-2014-666865
END:VEVENT

END:VCALENDAR
