BEGIN:VCALENDAR
VERSION:2.0
PRODID:-//ChamberMaster//Event Calendar 2.0//EN
METHOD:PUBLISH
X-PUBLISHED-TTL:P3D
REFRESH-INTERVAL:P3D
CALSCALE:GREGORIAN
BEGIN:VEVENT
DTSTART:20140424T223000Z
DTEND:20140425T020000Z
X-MICROSOFT-CDO-ALLDAYEVENT:FALSE
SUMMARY:2014 Induction Celebration of 12 Outstanding Women into the Minnesota Women Busi
DESCRIPTION:Join us as we induct 12 women entrepreneurial leaders into the Minnesota Women Business Owners Hall of Fame. These amazing trailblazers represent nearly 140 years of Minnesota business history. They have overcome challenges and obstacles many thought impossible. Their business savvy and entrepreneurial successes have left a legacy that will impact Minnesota for years to come. Inductees were selected because they: Made enduring contributions to Minnesota?s entrepreneurial community Made an impact on women's entrepreneurial development in Minnesota Had a meaningful connection to Minnesota (place of birth\, education\, and/or business location) Demonstrated leadership qualities or a spirit of entrepreneurial innovation that can serve as an inspiration to future generations of Minnesota entrepreneurs Some of these women blazed new trails in non-traditional industries such as manufacturing and banking. Others achieved the pinnacle of recognition for their successes in the professional services sector. They all faced and overcame numerous obstacles on their way to achieving business success. Many of them sold their businesses and have been significant community leaders in the Twin Cities through their philanthropy and by serving on major boards of directors. Some built million-dollar businesses in hard economies. All passed along their wisdom to their daughters and mentees to make a difference for generations to come. The celebration will include an intimate reception with heavy hors d? oeuvres\, as well as an induction ceremony celebrating their accomplishments and impact. This is a must attend event.
X-ALT-DESC;FMTTYPE=text/html:Join us as we induct 12 women entrepreneurial leaders into the Minnesota Women Business Owners Hall of Fame. These amazing trailblazers represent nearly 140 years of Minnesota business history. They have overcome challenges and obstacles many thought impossible. Their business savvy and entrepreneurial successes have left a legacy that will impact Minnesota for years to come. Inductees were selected because they: Made enduring contributions to Minnesota?s entrepreneurial community Made an impact on women&#39\;s entrepreneurial development in Minnesota Had a meaningful connection to Minnesota (place of birth\, education\, and/or business location) Demonstrated leadership qualities or a spirit of entrepreneurial innovation that can serve as an inspiration to future generations of Minnesota entrepreneurs Some of these women blazed new trails in non-traditional industries such as manufacturing and banking. Others achieved the pinnacle of recognition for their successes in the professional services sector. They all faced and overcame numerous obstacles on their way to achieving business success. Many of them sold their businesses and have been significant community leaders in the Twin Cities through their philanthropy and by serving on major boards of directors. Some built million-dollar businesses in hard economies. All passed along their wisdom to their daughters and mentees to make a difference for generations to come. The celebration will include an intimate reception with heavy hors d? oeuvres\, as well as an induction ceremony celebrating their accomplishments and impact. This is a must attend event.
LOCATION:Cargill 15407 McGinty Road West Wayzata\, MN 55391
UID:e.411.666761
SEQUENCE:3
DTSTAMP:20260425T145255Z
URL:http://dev.setupsite.burnsvillechamber.com/events/details/2014-induction-celebration-of-12-outstanding-women-into-the-minnesota-women-busi-04-24-2014-666761
END:VEVENT

END:VCALENDAR
