BEGIN:VCALENDAR
VERSION:2.0
PRODID:-//ChamberMaster//Event Calendar 2.0//EN
METHOD:PUBLISH
X-PUBLISHED-TTL:P3D
REFRESH-INTERVAL:P3D
CALSCALE:GREGORIAN
BEGIN:VEVENT
DTSTART:20140528T133000Z
DTEND:20140528T150000Z
X-MICROSOFT-CDO-ALLDAYEVENT:FALSE
SUMMARY:2014 Minnesota Chamber Policy Tour
DESCRIPTION:The Burnsville Area Chamber of Commerce in conjunction with the Minnesota Chamber of Commerce\, invites you to mix some fun and policy as part of the Statewide Policy Tour. \n\n\n\nThis is an outstanding opportunity to:\n\n \n\n	Network with your peers.\n	Identify the obstacles to your company growing jobs in Minnesota.\n	Learn what's at stake in the November 2014 elections.
X-ALT-DESC;FMTTYPE=text/html:<span style="color: black\; font-family: &quot\;Corbel&quot\;\,&quot\;sans-serif&quot\;\; font-size: 11pt\; mso-fareast-language: EN-US\; mso-fareast-font-family: Calibri\; mso-ansi-language: EN-US\; mso-bidi-language: AR-SA\; mso-fareast-theme-font: minor-latin\; mso-bidi-font-family: &quot\;Times New Roman&quot\;\;">The Burnsville Area Chamber of Commerce in conjunction with the Minnesota Chamber of Commerce\, invites you to mix some fun and policy as part of&nbsp\;the Statewide Policy Tour.&nbsp\;</span><br />\n<br />\n<span style="font-family: corbel\,sans-serif\;"><span style="color: black\;"><span style="font-size: medium\;">This is an outstanding opportunity&nbsp\;to:</span></span></span><br />\n&nbsp\;\n<ul>\n	<li style="margin: 0in 0in 10pt\; color: black\; line-height: 115%\;"><span style="font-family: corbel\,sans-serif\;"><span style="font-size: medium\;">Network with your peers.</span></span></li>\n	<li style="margin: 0in 0in 10pt\; color: black\; line-height: 115%\;"><span style="font-family: corbel\,sans-serif\;"><span style="font-size: medium\;">Identify the obstacles to your company growing jobs in Minnesota.</span></span></li>\n	<li style="margin: 0in 0in 10pt\; color: black\; line-height: 115%\;"><span style="font-family: corbel\,sans-serif\;"><span style="font-size: medium\;">Learn what&rsquo\;s at stake in the November 2014 elections.</span></span></li>\n</ul>\n
LOCATION:Business Card Service\, Inc 3200 143rd Circle Burnsville\, MN
UID:e.411.666796
SEQUENCE:3
DTSTAMP:20260425T145021Z
URL:http://dev.setupsite.burnsvillechamber.com/events/details/2014-minnesota-chamber-policy-tour-05-28-2014-666796
END:VEVENT

END:VCALENDAR
