BEGIN:VCALENDAR
VERSION:2.0
PRODID:-//ChamberMaster//Event Calendar 2.0//EN
METHOD:PUBLISH
X-PUBLISHED-TTL:P3D
REFRESH-INTERVAL:P3D
CALSCALE:GREGORIAN
BEGIN:VEVENT
DTSTART:20141112T163000Z
DTEND:20141112T203000Z
X-MICROSOFT-CDO-ALLDAYEVENT:FALSE
SUMMARY:2014 NAWBO Achieve! Awards Luncheon
DESCRIPTION:The 2014 keynote speaker will be Jill Blashack Strahan\, founder and CEO of Tastefully Simple. Blackshack Strahan is a top female entrepreneur and an inspiration to women across the nation. The Women Achieve! Awards winners are recognized for the contributions they have made to the local business community and culture\, as well as to the larger national and global economies. These pioneering women have forged their own paths to success and carved out new rules in business with intelligence\, compassion and courage.
X-ALT-DESC;FMTTYPE=text/html:The 2014 keynote speaker will be Jill Blashack Strahan\, founder and CEO of Tastefully Simple. Blackshack Strahan is a top female entrepreneur and an inspiration to women across the nation. The Women Achieve! Awards winners are recognized for the contributions they have made to the local business community and culture\, as well as to the larger national and global economies. These pioneering women have forged their own paths to success and carved out new rules in business with intelligence\, compassion and courage.
LOCATION:Minneapolis Event Center 212 2nd St SE\, Minneapolis\, MN 55414
UID:e.411.666888
SEQUENCE:3
DTSTAMP:20260425T020827Z
URL:http://dev.setupsite.burnsvillechamber.com/events/details/2014-nawbo-achieve-awards-luncheon-11-12-2014-666888
END:VEVENT

END:VCALENDAR
