BEGIN:VCALENDAR
VERSION:2.0
PRODID:-//ChamberMaster//Event Calendar 2.0//EN
METHOD:PUBLISH
X-PUBLISHED-TTL:P3D
REFRESH-INTERVAL:P3D
CALSCALE:GREGORIAN
BEGIN:VEVENT
DTSTART:20140220T133000Z
DTEND:20140220T150000Z
X-MICROSOFT-CDO-ALLDAYEVENT:FALSE
SUMMARY:2014 Pre-Session Legislative Forum
DESCRIPTION:The Burnsville Chamber of Commerce has coordinated a forum with State Legislators\, that represent our area\, before the start of the legislative session on February 25.\n\n\n\nPlease join us for this event to hear from your legislators on the business issues that affect you and your business.
X-ALT-DESC;FMTTYPE=text/html:<span style="font-size: 12px\;"><span style="font-family: tahoma\;">The Burnsville Chamber of Commerce has&nbsp\;coordinated a forum with State Legislators\, that represent our area\, before the start of the legislative session on February 25.<br />\n<br />\nPlease <span style="mso-fareast-language: EN-US\; mso-fareast-font-family: Calibri\; mso-ansi-language: EN-US\; mso-bidi-language: AR-SA\; mso-fareast-theme-font: minor-latin\;"><font color="#000000">join us for this event to hear from your legislators on the business issues that affect you and your business.</font></span></span></span><br type="_moz" />\n
LOCATION:Burnsville City Council Chambers 100 Civic Center Parkway Burnsville\, MN
UID:e.411.666750
SEQUENCE:3
DTSTAMP:20260425T175328Z
URL:http://dev.setupsite.burnsvillechamber.com/events/details/2014-pre-session-legislative-forum-02-20-2014-666750
END:VEVENT

END:VCALENDAR
