BEGIN:VCALENDAR
VERSION:2.0
PRODID:-//ChamberMaster//Event Calendar 2.0//EN
METHOD:PUBLISH
X-PUBLISHED-TTL:P3D
REFRESH-INTERVAL:P3D
CALSCALE:GREGORIAN
BEGIN:VEVENT
DTSTART:20141022T130000Z
DTEND:20141022T183000Z
X-MICROSOFT-CDO-ALLDAYEVENT:FALSE
SUMMARY:2014 Real World Ready Career Day
DESCRIPTION:For a second year\, the Burnsville Chamber\, Burnsville-Eagan-Savage School District #191\, and the City of Burnsville are partnering for "Real World Ready Career Day" on Wednesday\, October 22.  This event was created to address the workforce issues many businesses are facing. \n\n\n\nWhat:   Real World Ready Career Day\n\nWhen:  Wednesday\, Oct. 22\, 2014\n\nTime:     Brian Feist - Presentation            8-8:45 am\n\n              Student Career Fair                      9-9:45 am\n\n              Lunch Break                                 10 10:30 am\n\n              Businesses Tours                         10:30 am 1:30 pm
X-ALT-DESC;FMTTYPE=text/html:For a second year\, the Burnsville Chamber\, Burnsville-Eagan-Savage School District #191\, and the City of Burnsville are partnering for &ldquo\;Real World Ready Career Day&rdquo\; on Wednesday\, October 22. &nbsp\;This event was created to address the workforce issues many businesses are facing.&nbsp\;<br />\n<br />\n<strong><em>What:</em></strong>&nbsp\;&nbsp\; Real World Ready Career Day<br />\n<strong><em>When:</em></strong>&nbsp\; Wednesday\, Oct. 22\, 2014<br />\n<strong><em>Time:</em></strong>&nbsp\;&nbsp\;&nbsp\;&nbsp\; Brian Feist - Presentation &nbsp\; &nbsp\; &nbsp\; &nbsp\; &nbsp\; &nbsp\;8-8:45 am<br />\n&nbsp\;&nbsp\;&nbsp\;&nbsp\;&nbsp\;&nbsp\;&nbsp\;&nbsp\;&nbsp\;&nbsp\;&nbsp\;&nbsp\;&nbsp\;&nbsp\;Student Career Fair &nbsp\;<strong> &nbsp\; &nbsp\; &nbsp\; &nbsp\; &nbsp\; &nbsp\; &nbsp\; &nbsp\; &nbsp\; &nbsp\;</strong>9-9:45 am<br />\n&nbsp\; &nbsp\; &nbsp\; &nbsp\; &nbsp\; &nbsp\; &nbsp\; Lunch Break &nbsp\; &nbsp\; &nbsp\; &nbsp\; &nbsp\; &nbsp\; &nbsp\; &nbsp\; &nbsp\; &nbsp\; &nbsp\; &nbsp\; &nbsp\; &nbsp\; &nbsp\; &nbsp\; 10&ndash\;10:30 am<br />\n&nbsp\; &nbsp\; &nbsp\; &nbsp\; &nbsp\; &nbsp\; &nbsp\; Businesses Tours &nbsp\; &nbsp\; &nbsp\; &nbsp\; &nbsp\; &nbsp\; &nbsp\; &nbsp\; &nbsp\; &nbsp\; &nbsp\; &nbsp\; 10:30 am&ndash\;1:30 pm<br />\n<br />\n&nbsp\;
LOCATION:Burnsville High School 600 East Highway 13
UID:e.411.666867
SEQUENCE:3
DTSTAMP:20260425T041126Z
URL:http://dev.setupsite.burnsvillechamber.com/events/details/2014-real-world-ready-career-day-10-22-2014-666867
END:VEVENT

END:VCALENDAR
