BEGIN:VCALENDAR
VERSION:2.0
PRODID:-//ChamberMaster//Event Calendar 2.0//EN
METHOD:PUBLISH
X-PUBLISHED-TTL:P3D
REFRESH-INTERVAL:P3D
CALSCALE:GREGORIAN
BEGIN:VEVENT
DTSTART:20140522T213000Z
DTEND:20140523T000000Z
X-MICROSOFT-CDO-ALLDAYEVENT:FALSE
SUMMARY:2014 Small Business Expo @ Buck Hill Event Center
DESCRIPTION:Join us at Buck Hill Event Center to network with other chamber members from Dakota & Scott County! The event includes complimentary hors d'oeuvres\, a cash bar and exhibits by members from each of the participating chambers.  Interested in being a vendor? Please RSVP by May 16th by contacting the Burnsville Chamber of Commerce.  Each booth costs $125.\n\n\n\nIn addition\, the student businesses from the 2013-2014 Lakeville YEA! (Young Entrepreneurs Academy) will debut their newly launched businesses to consumers\, as well as potential clients or investors.
X-ALT-DESC;FMTTYPE=text/html:Join us at Buck Hill Event Center to network with other chamber members from Dakota &amp\; Scott County! The event includes complimentary hors d&#39\;oeuvres\, a cash bar and exhibits by members from each of the participating chambers.&nbsp\; Interested in being a vendor? Please RSVP by May 16th by contacting the Burnsville Chamber of Commerce.&nbsp\; Each booth costs $125.<br />\n<br />\nIn addition\, the student businesses from the 2013-2014 Lakeville YEA! (Young Entrepreneurs Academy) will debut their newly launched businesses to consumers\, as well as potential clients or investors.
LOCATION:Buck Hill Event Center 15400 Buck Hill Road Burnsville\, MN
UID:e.411.666800
SEQUENCE:3
DTSTAMP:20260425T131549Z
URL:http://dev.setupsite.burnsvillechamber.com/events/details/2014-small-business-expo-buck-hill-event-center-05-22-2014-666800
END:VEVENT

END:VCALENDAR
