BEGIN:VCALENDAR
VERSION:2.0
PRODID:-//ChamberMaster//Event Calendar 2.0//EN
METHOD:PUBLISH
X-PUBLISHED-TTL:P3D
REFRESH-INTERVAL:P3D
CALSCALE:GREGORIAN
BEGIN:VEVENT
DTSTART:20150402T213000Z
DTEND:20150402T233000Z
X-MICROSOFT-CDO-ALLDAYEVENT:FALSE
SUMMARY:2015 April Business After Hours @ Legends Golf Club (Joint Chambers)
DESCRIPTION:This month's Business After Hours is taking place at the beautiful Legends Golf Club! Join members of the Burnsville\, Lakeville & Prior Lake Chambers for a great time of networking!\n\n\n\nOpen to chamber members. Free to attend.  No RSVP required.
X-ALT-DESC;FMTTYPE=text/html:This month&#39\;s Business After Hours is taking place at the beautiful Legends Golf Club! Join members of the Burnsville\, Lakeville &amp\; Prior Lake Chambers for a great time of networking!<br />\n<br />\nOpen to chamber members. Free to attend.&nbsp\; No RSVP required.
LOCATION:Legends Golf Club 8670 Credit River Blvd Prior Lake\, MN
UID:e.411.666929
SEQUENCE:3
DTSTAMP:20260424T173813Z
URL:http://dev.setupsite.burnsvillechamber.com/events/details/2015-april-business-after-hours-legends-golf-club-joint-chambers-04-02-2015-666929
END:VEVENT

END:VCALENDAR
