BEGIN:VCALENDAR
VERSION:2.0
PRODID:-//ChamberMaster//Event Calendar 2.0//EN
METHOD:PUBLISH
X-PUBLISHED-TTL:P3D
REFRESH-INTERVAL:P3D
CALSCALE:GREGORIAN
BEGIN:VEVENT
DTSTART:20150806T213000Z
DTEND:20150806T233000Z
X-MICROSOFT-CDO-ALLDAYEVENT:FALSE
SUMMARY:2015 August Business After Hours @ Clive's Roadhouse
DESCRIPTION:2015 August Business After Hours\n\n4:30 pm - 6:30 pm\n\n\n\nEnjoy visiting with colleagues over a refreshment and get to know one of our newest members! \n\nGreat food\, great decor and great networking!
X-ALT-DESC;FMTTYPE=text/html:<span style="font-size: 16px\;"><strong>2015 August Business After Hours<br />\n4:30 pm - 6:30 pm</strong></span><br />\n<br />\nEnjoy visiting with colleagues over a refreshment and get to know one of our newest members!&nbsp\;<br />\nGreat food\, great decor and great networking!<br />\n&nbsp\;
LOCATION:Clive's Roadhouse 13050 Aldrich Avenue South Burnsville\, Minnesota 55337
UID:e.411.666958
SEQUENCE:3
DTSTAMP:20260424T103623Z
URL:http://dev.setupsite.burnsvillechamber.com/events/details/2015-august-business-after-hours-clive-s-roadhouse-08-06-2015-666958
END:VEVENT

END:VCALENDAR
