BEGIN:VCALENDAR
VERSION:2.0
PRODID:-//ChamberMaster//Event Calendar 2.0//EN
METHOD:PUBLISH
X-PUBLISHED-TTL:P3D
REFRESH-INTERVAL:P3D
CALSCALE:GREGORIAN
BEGIN:VEVENT
DTSTART:20150227T000000Z
DTEND:20150227T040000Z
X-MICROSOFT-CDO-ALLDAYEVENT:FALSE
SUMMARY:2015 Bite of Burnsville - A Night to Savor!
DESCRIPTION:Enjoy an evening out experiencing some of the area's finest restaurants at the Burnsville Chamber's annual Bite of Burnsville! Dress your best for this "night to savor".  There will be exciting auctions\, raffles and tastings! The Bite of Burnsville is an evening of sampling fantastic appetizers\, entrees\, desserts and unique culinary masterpieces from over 20 restaurants.  Also enjoy two live performer throughout the evening in the beautiful setting of the esteemed Ames Center in Burnsville.  Cheers!   \n\n\n\nThank you to our wonderful sponsors - \n\n\n\nProducer Level\n\nFairview Ridges Hospital\n\nCornerstone Copy Center\n\n\n\nDirector Level\n\nApres Party and Tent Rental\n\n\n\nPatrol Level\n\nDakota Electric Association\n\nDougherty\, Molenda\, Solfest\, Hills & Bauer\, P.A.\n\nWellington Management
X-ALT-DESC;FMTTYPE=text/html:Enjoy an evening out experiencing some of the area&#39\;s finest restaurants at the Burnsville Chamber&#39\;s annual Bite of Burnsville! Dress your best for this &quot\;night to savor&quot\;.&nbsp\; There will be exciting auctions\, raffles and tastings! The Bite of Burnsville is an evening of sampling fantastic appetizers\, entrees\, desserts and unique culinary masterpieces from over 20 restaurants.&nbsp\; Also enjoy two live performer throughout the evening in the beautiful setting of the esteemed <span style="font-size: 12px\;">Ames Center in Burnsville.&nbsp\; Cheers!&nbsp\;&nbsp\;&nbsp\;<br />\n<br />\n<span style="font-size: 14px\;"><em><strong>Thank you to our wonderful sponsors </strong></em>- </span></span><br />\n<br />\n<span style="font-size: 14px\;"><u>Producer Level</u><br />\n<a href="http://www.fairview.org/Hospitals/Ridges/index.htm">Fairview Ridges Hospital</a><br />\n<a href="http://www.cornerstonecopy.com/">Cornerstone Copy Center</a></span><br />\n<br />\n<u>Director Level</u><br />\n<a href="http://www.apresparty.com/">Apres Party and Tent Rental</a><br />\n<br />\n<u>Patrol Level</u><br />\n<a href="http://www.dakotaelectric.com/">Dakota Electric Association</a><br />\n<a href="http://www.dmshb.com/">Dougherty\, Molenda\, Solfest\, Hills &amp\; Bauer\, P.A.</a><br />\n<a href="http://www.wellingtonmgt.com/">Wellington Management</a>
LOCATION:Ames Center (formerly the Burnsville Performing Arts Center) 12600 Nicollet Ave Burnsville
UID:e.411.666903
SEQUENCE:3
DTSTAMP:20260424T210953Z
URL:http://dev.setupsite.burnsvillechamber.com/events/details/2015-bite-of-burnsville-a-night-to-savor-02-26-2015-666903
END:VEVENT

END:VCALENDAR
