BEGIN:VCALENDAR
VERSION:2.0
PRODID:-//ChamberMaster//Event Calendar 2.0//EN
METHOD:PUBLISH
X-PUBLISHED-TTL:P3D
REFRESH-INTERVAL:P3D
CALSCALE:GREGORIAN
BEGIN:VEVENT
DTSTART:20150114T170000Z
DTEND:20150114T190000Z
X-MICROSOFT-CDO-ALLDAYEVENT:FALSE
SUMMARY:2015 Burnsville Chamber Annual Meeting Luncheon
DESCRIPTION:Join us for the Annual Membership Luncheon at Best Western Premier Nicollet Inn! Help us celebrate the Burnsville Chamber as we recognize our volunteers who keep our organization moving forward.  We will honor our Board of Directors\, Volunteer of the Year\, Ambassador of the Year\,\n\ncommittees and task forces.\n\n\n\nGuest speaker is John Edman of Explore MN.\n\n\n\nPlease RSVP to Jina by Thursday\, January 8th.  Cost is $25/person for a delicious meal prepared by the expert chefs at Best Western Premier and Morgan's. \n\n\n\nAgenda Includes\n\n11:00 a.m. - Registration\n\n11:30 a.m. - Lunch\n\n12:00 p.m. - Annual Meeting and Volunteer Recognition\n\n12:30 p.m. - Speaker (TBD)\n\n1:00 p.m. - Conclude
X-ALT-DESC;FMTTYPE=text/html:Join us for the Annual Membership Luncheon at Best Western Premier Nicollet Inn! Help us celebrate the Burnsville Chamber as we recognize our volunteers who keep our organization moving forward.&nbsp\; We will honor our Board of Directors\, Volunteer of the Year\, Ambassador of the Year\,<br />\ncommittees and task forces.<br />\n<br />\nGuest speaker is John Edman of Explore MN.<br />\n<br />\nPlease RSVP to Jina by Thursday\, January 8th.&nbsp\; Cost is $25/person for a delicious meal prepared by the expert chefs at Best Western Premier and Morgan&#39\;s.&nbsp\;<br />\n<br />\n<u>Agenda Includes</u><br />\n11:00 a.m. - Registration<br />\n11:30 a.m. - Lunch<br />\n12:00 p.m. - Annual Meeting and Volunteer Recognition<br />\n12:30 p.m. - Speaker (TBD)<br />\n1:00 p.m. - Conclude<br />\n<br />\n&nbsp\;
LOCATION:Best Western Premier Nicollet Inn 14201 Nicollet Avenue South\, Burnsville
UID:e.411.666896
SEQUENCE:3
DTSTAMP:20260424T225140Z
URL:http://dev.setupsite.burnsvillechamber.com/events/details/2015-burnsville-chamber-annual-meeting-luncheon-01-14-2015-666896
END:VEVENT

END:VCALENDAR
