BEGIN:VCALENDAR
VERSION:2.0
PRODID:-//ChamberMaster//Event Calendar 2.0//EN
METHOD:PUBLISH
X-PUBLISHED-TTL:P3D
REFRESH-INTERVAL:P3D
CALSCALE:GREGORIAN
BEGIN:VEVENT
DTSTART:20151008T160000Z
DTEND:20151008T233000Z
X-MICROSOFT-CDO-ALLDAYEVENT:FALSE
SUMMARY:2015 Burnsville Chamber "Chambershack" Fall Golf Tourney
DESCRIPTION:Chambershack\n\n"A Tournament Like No Other"\n\nUgly Pants Contest: Prized for singles and groups!\n\n\n\nSponsorships still available:\n\n\n	Eagle Sponsor - $500 (Includes a twosome for golf\, recognition on event promotion\, & staffed hole sponsorship)\n	Beverage Cart Sponsor - $500 (Includes a twosome for golf\, recognition on event promotion\, & recognition on beverage cart)\n	Birdie Sponsorship - $250 (includes recognition on Event Promotion and & staffed hole sponsorship)\n	Hole Sponsorship - $150 (includes recognition on event promotion and signage on tee box)\n	Field Event Sponsor - $50 plus $50 gift card (includes recognition on event promotion and signage on tee box)\n\n\n\nRegistration Form - you may register on line or mail this form to:\n\n\n\nThe Burnsville Chamber - Attn: Chambershack\n\n350 West Burnsville Parkway\, Suite 425\n\nBurnsville\, Minnesota 55337\n\nor email completed form to:\n\nlinda@burnsvillechamber.com\n\n\n\nRegistration deadline - September 28\, 2015\n\n\n\nChambershack is a rain or shine event. Cancellations will be accepted through September 25th after which no refunds will be issued.
X-ALT-DESC;FMTTYPE=text/html:<strong><span style="font-size: 18px\;">Chambershack<br />\n&quot\;A Tournament Like No Other&quot\;</span><br />\nUgly Pants Contest: Prized for singles and groups!<br />\n<br />\n<span style="font-size: 16px\;"><span style="color: rgb(255\, 0\, 0)\;">Sponsorships still available:</span></span></strong>\n\n<ul>\n	<li><strong>Eagle Sponsor - $500 (Includes a twosome for golf\, recognition on event promotion\, &amp\; staffed hole sponsorship)</strong></li>\n	<li><strong>Beverage Cart Sponsor - $500 (Includes a twosome for golf\, recognition on event promotion\, &amp\; recognition on beverage cart)</strong></li>\n	<li><strong>Birdie Sponsorship - $250 (includes recognition on Event Promotion and &amp\; staffed hole sponsorship)</strong></li>\n	<li><strong>Hole Sponsorship - $150 (includes recognition on event promotion and signage on tee box)</strong></li>\n	<li><strong>Field Event Sponsor - $50 plus $50 gift card (includes recognition on event promotion and signage on tee box)</strong></li>\n</ul>\n<br />\n<strong><a href="http://cloud.chambermaster.com/userfiles/UserFiles/chambers/411/File/scan.pdf" target="_blank">Registration Form </a>- you may register on line or mail this form to:<br />\n<br />\nThe Burnsville Chamber - Attn: Chambershack<br />\n350 West Burnsville Parkway\, Suite 425<br />\nBurnsville\, Minnesota 55337<br />\nor email completed form to:<br />\nlinda@burnsvillechamber.com<br />\n<br />\n<span style="font-size: 16px\;"><span style="color: rgb(255\, 0\, 0)\;">Registration deadline - September 28\, 2015</span></span></strong><br />\n<br />\n<strong><span style="color: rgb(255\, 0\, 0)\;"><span style="font-family: &quot\;Calibri&quot\;\,sans-serif\; font-size: 11pt\; mso-fareast-font-family: Calibri\; mso-fareast-theme-font: minor-latin\; mso-bidi-font-family: &quot\;Times New Roman&quot\;\; mso-ansi-language: EN-US\; mso-fareast-language: EN-US\; mso-bidi-language: AR-SA\;">Chambershack is a rain or shine event. Cancellations will be accepted through September 25th after which no refunds will be issued.</span></span></strong>
LOCATION:Crystal Lake Golf Club Lakeville\, Minnesota
UID:e.411.666979
SEQUENCE:3
DTSTAMP:20260424T063022Z
URL:http://dev.setupsite.burnsvillechamber.com/events/details/2015-burnsville-chamber-chambershack-fall-golf-tourney-10-08-2015-666979
END:VEVENT

END:VCALENDAR
