BEGIN:VCALENDAR
VERSION:2.0
PRODID:-//ChamberMaster//Event Calendar 2.0//EN
METHOD:PUBLISH
X-PUBLISHED-TTL:P3D
REFRESH-INTERVAL:P3D
CALSCALE:GREGORIAN
BEGIN:VEVENT
DTSTART:20150601T160000Z
DTEND:20150602T000000Z
X-MICROSOFT-CDO-ALLDAYEVENT:FALSE
SUMMARY:2015 Burnsville Chamber Golf Classic @ Brackett's Crossing
DESCRIPTION:Enjoy a day out of the office at the Burnsville Chamber's Annual Golf Classic! This year's Classic is being held at a spectacular course - Brackett's Crossing Country Club.  Register by April 15th and receive an exclusive Club Pack with a Nike Golf hat\, Nike Golf towel\, drawstring back pack\, golf tool and logo'd water bottle (valued at $50).\n\n\n\nWhere: Brackett's Crossing Country Club\n\nWhen: Monday\, June 1st\n\nCost per golfer: (Chamber member & non Chamber member) - $175\n\nTimeline of the Day:\n\n11 a.m. - Registration & Driving Range open\n\n11:30 a.m. - Lunch\n\n12:15 - Call to Carts\n\n12:30 - Shotgun start\n\n5:00 p.m. - Cocktail hour\, Dinner & Awards to follow
X-ALT-DESC;FMTTYPE=text/html:<div style="color: gray\;">Enjoy a day out of the office at the Burnsville Chamber&#39\;s Annual Golf Classic! This year&#39\;s Classic is being held at a spectacular course - Brackett&#39\;s Crossing Country Club.&nbsp\; Register by April 15th and receive an exclusive Club Pack with a Nike Golf hat\, Nike Golf towel\, drawstring back pack\, golf tool and logo&#39\;d water bottle (valued at $50).<br />\n<br />\nWhere: Brackett&#39\;s Crossing Country Club<br />\nWhen: Monday\, June 1st<br />\nCost per golfer: (Chamber member &amp\; non Chamber member) - $175<br />\nTimeline of the Day:<br />\n11 a.m. - Registration &amp\; Driving Range open<br />\n11:30 a.m. - Lunch<br />\n12:15 - Call to Carts<br />\n12:30 - Shotgun start<br />\n5:00 p.m. - Cocktail hour\, Dinner &amp\; Awards to follow</div>\n
LOCATION:Brackett's Crossing Country Club 17976 Judicial Road Lakeville\, MN 55044 www.brackettscrossingcc.com Thank you to our Title Sponsors! Arcon Solutions\, Inc. - www.arconinc.com Shah Corporation - www.shahcorp.com
UID:e.411.666934
SEQUENCE:3
DTSTAMP:20260424T140126Z
URL:http://dev.setupsite.burnsvillechamber.com/events/details/2015-burnsville-chamber-golf-classic-brackett-s-crossing-06-01-2015-666934
END:VEVENT

END:VCALENDAR
