BEGIN:VCALENDAR
VERSION:2.0
PRODID:-//ChamberMaster//Event Calendar 2.0//EN
METHOD:PUBLISH
X-PUBLISHED-TTL:P3D
REFRESH-INTERVAL:P3D
CALSCALE:GREGORIAN
BEGIN:VEVENT
DTSTART:20150321T150000Z
DTEND:20150321T200000Z
X-MICROSOFT-CDO-ALLDAYEVENT:FALSE
SUMMARY:2015 Burnsville Community Home Show
DESCRIPTION:The Burnsville Community Home Show is back! The show is a partnership between the Burnsville Chamber of Commerce\, the City of Burnsville\, and Independent School District 191\, and will be happening on Saturday\, March 21st at the Burnsville High School.\n\n\n\nThank you to our Title Sponsors\, New Spaces and Custom Drapery and Blinds by Michael Esch!\n\n\n\nExhibitor Booth Information:\n\n- Booths are 10' x 10' with 6' skirted table and include 2 chairs.\n\n- Electrical outlets are limited\, please specify if needed (additional fee).\n\n- Set-up may be done the evening before the show or early morning of the show (times TBA).\n\n\n\n$295/Booth!!\n\n\n\n- Applications are accepted on a first-come\, first-served basis with exhibitor variety taken into consideration.\n\n- Cancelations after February 28th\, 2015 will not be refunded.\n\n- Burnsville Chamber of Commerce reserves the right to jury vendors.\n\n\n\nSPONSORSHIP OPPORTUNITIES\n\nContact the Chamber for more info - 952.435.6000\n\nTitle Sponsorship - $1200 - SOLD OUT\n\nThank you New Spaces and Custom Drapery and Blinds by Michael Esch!\n\n\n\nHome Show Sponsor - $895\n\nShowcase Sponsor - $450
X-ALT-DESC;FMTTYPE=text/html:The Burnsville Community Home Show is back! The show is a partnership between the Burnsville Chamber of Commerce\, the City of Burnsville\, and Independent School District 191\, and will be happening on Saturday\, March 21st at the Burnsville High School.<br />\n<br />\n<span style="font-size: 16px\;"><strong><span style="color: rgb(255\, 0\, 0)\;">Thank you to our Title Sponsors\, </span><a href="http://www.newspaces.com"><span style="color: rgb(0\, 0\, 255)\;">New Spaces</span></a><span style="color: rgb(0\, 0\, 255)\;"> </span><span style="color: rgb(255\, 0\, 0)\;">and </span></strong><a href="http://customdraperyandblindsbymichaelesch.com"><span style="color: rgb(0\, 0\, 255)\;"><strong>Custom Drapery and Blinds by Michael Esch!</strong></span></a></span><br />\n<br />\n<u>Exhibitor Booth Information</u>:<br />\n- Booths are 10&#39\; x 10&#39\; with 6&#39\; skirted table and include 2 chairs.<br />\n- Electrical outlets are limited\, please specify if needed&nbsp\;(additional fee).<br />\n- Set-up may be done the evening before the show or early morning of the show (times TBA).<br />\n<br />\n<span style="font-size: 18px\;"><strong><u>$295/Booth!!</u></strong></span><br />\n<br />\n- Applications are accepted on a first-come\, first-served basis with exhibitor variety taken into consideration.<br />\n- Cancelations after February 28th\, 2015 will not be refunded.<br />\n- Burnsville Chamber of Commerce reserves the right to jury vendors.<br />\n<br />\n<u><strong>SPONSORSHIP OPPORTUNITIES</strong></u><br />\nContact the Chamber for more info - 952.435.6000<br />\n<strong>Title Sponsorship</strong> - $1200 - <em>SOLD OUT</em><br />\n<em>Thank you New Spaces and Custom Drapery and Blinds by Michael Esch!</em><br />\n<br />\nHome Show Sponsor - $895<br />\nShowcase Sponsor - $450
LOCATION:Burnsville High School 600 East Highway 13\, Burnsville
UID:e.411.666905
SEQUENCE:3
DTSTAMP:20260424T191601Z
URL:http://dev.setupsite.burnsvillechamber.com/events/details/2015-burnsville-community-home-show-03-21-2015-666905
END:VEVENT

END:VCALENDAR
