BEGIN:VCALENDAR
VERSION:2.0
PRODID:-//ChamberMaster//Event Calendar 2.0//EN
METHOD:PUBLISH
X-PUBLISHED-TTL:P3D
REFRESH-INTERVAL:P3D
CALSCALE:GREGORIAN
BEGIN:VEVENT
DTSTART:20151104T220000Z
DTEND:20151104T230000Z
X-MICROSOFT-CDO-ALLDAYEVENT:FALSE
SUMMARY:2015 County Wide Chamber Speed Networking Event
DESCRIPTION:Join Us!\n\n2015 County Wide Speed Networking Event\n\n\n\nHosted by the six Dakota County Chambers of Commerce\n\n	Apple Valley Chamber of Commerce\n	Burnsville Chamber of Commerce\n	Dakota County Regional Chamber of Commerce\n	Hastings Area Chamber of Commerce\n	Lakeville Area Chamber of Commerce\n	River Heights Chamber of Commerce\n\n\n\nAre you interested in gathering quality leads in a unique and exciting Speed Networking event where you will identify your hot leads during the event?\n\n\n\nJoin us at the Mendakota Country Club prior to the County Wide Chamber Small Business Expo and Business After Hours event for an hour long speed networking session!\n\n\n\nSign up for this speed networking event and  you will receive a couple of videos to help you prepare for the session and ensure that you receive the greatest return on your investment.  Upon registering\, you will receive the first video to help you craft the best 30 second defining statement describing your business and a couple of days before the event\, you will receive the second video to educate you on how to identify your best propects.\n\n\n\nOnce the Speed Networking event is over\, you will want to stay for the Country Wide Business After Hours from 5:00 pm - 7:00 pm and the County Wide Chamber Expo\, booth space information is available below.
X-ALT-DESC;FMTTYPE=text/html:<span style="font-size: 14px\;"><strong>Join Us!</strong></span><br />\n<span style="font-size: 14px\;"><strong>2015 County Wide Speed Networking Event</strong></span><br />\n<br />\nHosted by the six Dakota County Chambers of Commerce\n<ul>\n	<li>Apple Valley Chamber of Commerce</li>\n	<li>Burnsville Chamber of Commerce</li>\n	<li>Dakota County Regional Chamber of Commerce</li>\n	<li>Hastings Area Chamber of Commerce</li>\n	<li>Lakeville Area Chamber of Commerce</li>\n	<li>River Heights Chamber of Commerce</li>\n</ul>\n<br />\nAre you interested in gathering quality leads in a unique and exciting Speed Networking event where you will identify your hot leads during the event?<br />\n<br />\nJoin us at the Mendakota Country Club prior to the County Wide Chamber Small Business Expo and Business After Hours event for an hour long speed networking session!<br />\n<br />\nSign up for this speed networking event and&nbsp\; you will receive a couple of videos to help you prepare for the session and ensure that you receive the greatest return on your investment.&nbsp\; Upon registering\, you will receive the&nbsp\;first video&nbsp\;to help you craft the best 30 second defining statement describing your business and a couple of days before the event\, you will receive the second video to educate you on how to identify your best propects.<br />\n<br />\nOnce the Speed Networking event is over\, you will want to stay for the Country Wide Business After Hours from 5:00 pm - 7:00 pm and the County Wide Chamber Expo\, <em>booth space information is available below</em>.<br />\n<br />\n<br />\n<br />\n<br />\n<br />\n&nbsp\;
LOCATION:Mendakota Country Club 2075 Mendakota Road Mendota Heights\, MN 55120 View A Map
UID:e.411.666987
SEQUENCE:3
DTSTAMP:20260424T063045Z
URL:http://dev.setupsite.burnsvillechamber.com/events/details/2015-county-wide-chamber-speed-networking-event-11-04-2015-666987
END:VEVENT

END:VCALENDAR
