BEGIN:VCALENDAR
VERSION:2.0
PRODID:-//ChamberMaster//Event Calendar 2.0//EN
METHOD:PUBLISH
X-PUBLISHED-TTL:P3D
REFRESH-INTERVAL:P3D
CALSCALE:GREGORIAN
BEGIN:VEVENT
DTSTART:20150211T140000Z
DTEND:20150211T150000Z
X-MICROSOFT-CDO-ALLDAYEVENT:FALSE
SUMMARY:2015 February AM Coffee Break @ 360 Communities
DESCRIPTION:Join us for a joint chamber coffee break! The Burnsville\, Apple Valley and Lakeville Chambers of Commerce welcome you to get to know nonprofit 360 Communities\, while networking with fellow Chamber members and discovering new opportunities for the business community to come together and give back! Please consider bringing a food for cash donation for the food shelf.\n\n\n\nYou can make a difference for a family in need! Bring food or cash donations with you to help stock the 360 Communities Burnsville\, Apple Valley or Lakeville Food Shelf.  About four bags of food feed a family of four for one week.  A $10 donation will buy $30 worth of groceries thanks to 360 Communities' access to discount food programs. \n\n\n\nCoffee and breakfast items will be catered by Buzz Coffee & Cafe!
X-ALT-DESC;FMTTYPE=text/html:Join us for a joint chamber coffee break! The Burnsville\, Apple Valley&nbsp\;and Lakeville Chambers of Commerce welcome you to get to know nonprofit 360 Communities\, while networking with fellow Chamber members and&nbsp\;discovering new opportunities for the business community to come together and give back! <u>Please consider bringing a food for cash donation for the food shelf.</u><br />\n<br />\nYou can make a difference for&nbsp\;a family in need! Bring food or cash donations with you to help stock the 360 Communities Burnsville\, Apple Valley or Lakeville Food Shelf.&nbsp\; About four bags of food feed a family of&nbsp\;four for one week.&nbsp\; A $10 donation will buy $30 worth of groceries thanks to 360 Communities&#39\; access to discount food programs.&nbsp\;<br />\n<br />\n<em><strong>Coffee and breakfast items will be catered by <a href="http://www.buzzcoffeeandcafe.com">Buzz Coffee &amp\; Cafe</a>!</strong></em>
LOCATION:360 Communities 501 E. Highway 13\, Suite 102 Burnsville
UID:e.411.666917
SEQUENCE:3
DTSTAMP:20260424T210826Z
URL:http://dev.setupsite.burnsvillechamber.com/events/details/2015-february-am-coffee-break-360-communities-02-11-2015-666917
END:VEVENT

END:VCALENDAR
