BEGIN:VCALENDAR
VERSION:2.0
PRODID:-//ChamberMaster//Event Calendar 2.0//EN
METHOD:PUBLISH
X-PUBLISHED-TTL:P3D
REFRESH-INTERVAL:P3D
CALSCALE:GREGORIAN
BEGIN:VEVENT
DTSTART:20150205T223000Z
DTEND:20150206T003000Z
X-MICROSOFT-CDO-ALLDAYEVENT:FALSE
SUMMARY:2015 February Business After Hours @ Mediterranean Cruise Cafe
DESCRIPTION:Enjoy some excellent food\, conversation and networking at the February Business After Hours event at the popular Mediterranean Cruise Cafe!\n\n\n\nOpen to Chamber members.  No RSVP needed.  Free to attend.
X-ALT-DESC;FMTTYPE=text/html:Enjoy some excellent food\, conversation and networking at the February Business After Hours event at the popular Mediterranean Cruise Cafe!<br />\n<br />\nOpen to Chamber members.&nbsp\; No RSVP needed.&nbsp\; Free to attend.
LOCATION:Mediterranean Cruise Cafe 12500 Nicollet Ave\, Burnsville
UID:e.411.666916
SEQUENCE:3
DTSTAMP:20260424T211038Z
URL:http://dev.setupsite.burnsvillechamber.com/events/details/2015-february-business-after-hours-mediterranean-cruise-cafe-02-05-2015-666916
END:VEVENT

END:VCALENDAR
