BEGIN:VCALENDAR
VERSION:2.0
PRODID:-//ChamberMaster//Event Calendar 2.0//EN
METHOD:PUBLISH
X-PUBLISHED-TTL:P3D
REFRESH-INTERVAL:P3D
CALSCALE:GREGORIAN
BEGIN:VEVENT
DTSTART:20151204T000000Z
DTEND:20151204T050000Z
X-MICROSOFT-CDO-ALLDAYEVENT:FALSE
SUMMARY:2015 Holiday Gala @ The Legends Club
DESCRIPTION:2015 Burnsville Chamber Holiday Gala\n\nBurnsville Chamber 50th Anniversary\n\n6:00 pm - 11:00 pm\n\n$50 per person\n\n$350 table of eight\n\nRegister online or by contacting the Burnsville Chamber of Commerce @ 952-435-6000 or linda@burnsvilechamber.com\n\n	 6:00 pm Cocktail Hour\n	 7:00 pm Dinner & Champagne Toast\n	 8:00 pm Presentation of Business Person of the Year\n	 8:30 pm Entertainment\n\nSponsorship Opportunities\n\n\n	Gold $500 - Special logo recognition in all advance publicity advertising\, Special logo recognition at event\, logo on printed event program\, recognition on event signage\, recognition during event program & four gala tickets and reserved seating\n	Silver $300 - Special logo recognition in all advance publicity advertising\, special name recognition at event\, name in printed event program\, recognition on event signage\, recognition during event program & two gala tickets and reserved seating\n	Bronze $200 - Name recognition in all advance publicity advertising\, name recognition at event\, name in printed event program\, recognition on event signage & recognition during event program.\n\nYou can be a sponsor by contacting us at 952-435-6000 or by email at linda@burnsvillechamber.com or by sending in the sponsorship form. \n\nSponsorship Form
X-ALT-DESC;FMTTYPE=text/html:<span style="font-size: 16px\;"><strong><em>2015 Burnsville Chamber Holiday Gala<br />\nBurnsville Chamber 50th Anniversary<br />\n6:00 pm - 11:00 pm</em></strong></span><br />\n$50 per person<br />\n$350 table of eight<br />\nRegister online or by contacting the Burnsville Chamber of Commerce @ 952-435-6000 or linda@burnsvilechamber.com\n<ul>\n	<li><span style="font-size: 12pt\;"><span style="font-family: calibri\;">&nbsp\;6:00 pm Cocktail Hour</span></span></li>\n	<li><span style="font-size: 12pt\;"><span style="font-family: calibri\;">&nbsp\;7:00 pm Dinner &amp\; Champagne Toast</span></span></li>\n	<li><span style="font-size: 12pt\;"><span style="font-family: calibri\;">&nbsp\;8:00 pm Presentation of Business Person of the Year</span></span></li>\n	<li><span style="font-size: 12pt\;"><span style="font-family: calibri\,sans-serif\;">&nbsp\;8:30 pm Entertainment</span></span></li>\n</ul>\n<font face="Calibri" size="3"><strong>Sponsorship Opportunities</strong></font>\n\n<ul>\n	<li><font face="Calibri" size="3"><strong>Gold $500 </strong>- Special logo recognition in all advance publicity advertising\, Special logo recognition at event\, logo on printed event program\, recognition on event signage\, recognition during event program &amp\;&nbsp\;four gala tickets and reserved seating</font></li>\n	<li><font face="Calibri" size="3"><strong>Silver $300 </strong>- Special logo recognition in all advance publicity advertising\, special name recognition at event\, name in printed event program\, recognition on event signage\, recognition during event program &amp\; two gala tickets&nbsp\;and reserved seating</font></li>\n	<li><font face="Calibri" size="3"><font face="Calibri" size="3"><strong>Bronze $200 </strong>- Name recognition in all advance publicity advertising\, name recognition at event\, name in printed event program\, recognition on event signage &amp\; recognition during event program.</font></font></li>\n</ul>\n<font face="Calibri" size="3"><font face="Calibri" size="3">You can be a sponsor by contacting us at 952-435-6000 or by email at <a href="mailto:linda@burnsvillechamber.com">linda@burnsvillechamber.com</a> or by sending in the sponsorship form.&nbsp\;<br />\n<a href="http://cloud.chambermaster.com/userfiles/UserFiles/chambers/411/File/2015HolidayGala-Sponsorship.pdf" target="_blank">Sponsorship Form</a></font></font><br />\n<br />\n<br />\n<br />\n&nbsp\;
LOCATION:Legends Club 8670 Credit River Blvd Prior Lake\, 55372 View A Map
UID:e.411.666972
SEQUENCE:3
DTSTAMP:20260424T032758Z
URL:http://dev.setupsite.burnsvillechamber.com/events/details/2015-holiday-gala-the-legends-club-12-03-2015-666972
END:VEVENT

END:VCALENDAR
