BEGIN:VCALENDAR
VERSION:2.0
PRODID:-//ChamberMaster//Event Calendar 2.0//EN
METHOD:PUBLISH
X-PUBLISHED-TTL:P3D
REFRESH-INTERVAL:P3D
CALSCALE:GREGORIAN
BEGIN:VEVENT
DTSTART:20150317T163000Z
DTEND:20150317T173000Z
X-MICROSOFT-CDO-ALLDAYEVENT:FALSE
SUMMARY:2015 March Lunch & Learn - "Car Care Basics" @ Meineke of Burnsville
DESCRIPTION:Whether you are a beginner at the basics of car care\, or a you know this stuff but could use a refresher\, join us for lunch from Blue Ox Sandwiches (courtesy of Meineke of Burnsville)\, some great car-care pointers\, and a fun time!\n\n11:30 - arrive\, network\, grab lunch\n\n11:45-12:15 - Class\n\n12:15-12:30 - Q & A/networking\n\n\n\nYou will learn:\n\n* How to change a flat tire\n\n* What the lights on the dashboard mean and which ones you REALLY need to pay attention to\n\n* Maintenance vs. Repairs\n\n* How to get over 200K miles out of your car\n\n* How to check your oil\n\n\n\nPlease RSVP to the Burnsville Chamber by Monday\, March 16th\n\n952-435-6000\n\nFree to attend for Burnsville Chamber members
X-ALT-DESC;FMTTYPE=text/html:Whether you are a beginner at the basics of car care\, or a you know this stuff but could use a refresher\, join us for lunch from Blue Ox Sandwiches (courtesy of Meineke of Burnsville)\, some great car-care pointers\, and a fun time!<br />\n11:30 - arrive\, network\, grab lunch<br />\n11:45-12:15 - Class<br />\n12:15-12:30 - Q &amp\; A/networking<br />\n<br />\n<u>You will learn</u>:<br />\n* How to change a flat tire<br />\n* What the lights on the dashboard mean and which ones you REALLY need to pay attention to<br />\n* Maintenance vs. Repairs<br />\n* How to get over 200K miles out of your car<br />\n* How to check your oil<br />\n<br />\n<em><strong>Please RSVP to the Burnsville Chamber by Monday\, March 16th<br />\n952-435-6000</strong><br />\nFree to attend for Burnsville Chamber members</em><br />\n&nbsp\;
LOCATION:Meineke of Burnsville 600 Southcross Drive Burnsville http://meinekeofburnsville.com
UID:e.411.666926
SEQUENCE:3
DTSTAMP:20260424T191710Z
URL:http://dev.setupsite.burnsvillechamber.com/events/details/2015-march-lunch-learn-car-care-basics-meineke-of-burnsville-03-17-2015-666926
END:VEVENT

END:VCALENDAR
