BEGIN:VCALENDAR
VERSION:2.0
PRODID:-//ChamberMaster//Event Calendar 2.0//EN
METHOD:PUBLISH
X-PUBLISHED-TTL:P3D
REFRESH-INTERVAL:P3D
CALSCALE:GREGORIAN
BEGIN:VEVENT
DTSTART:20150507T213000Z
DTEND:20150507T233000Z
X-MICROSOFT-CDO-ALLDAYEVENT:FALSE
SUMMARY:2015 May Business After Hours @ Brackett's Crossing Country Club
DESCRIPTION:May's Business After Hours is being hosted by Brackett's Crossing Country Club.  Come out and join us for appetizers\, cocktails & fun! Sign up for the June 1st Golf Classic while you're there!\n\n\n\nNo RSVP necessary.  Free to attend.
X-ALT-DESC;FMTTYPE=text/html:May&#39\;s Business After Hours is being hosted by Brackett&#39\;s Crossing Country Club.&nbsp\; Come out and join us for appetizers\, cocktails &amp\; fun! Sign up for the June 1st Golf Classic while you&#39\;re there!<br />\n<br />\nNo RSVP necessary.&nbsp\; Free to attend.
LOCATION:Brackett's Crossing Country Club 17976 Judicial Road Lakeville\, MN
UID:e.411.666935
SEQUENCE:3
DTSTAMP:20260424T155909Z
URL:http://dev.setupsite.burnsvillechamber.com/events/details/2015-may-business-after-hours-brackett-s-crossing-country-club-05-07-2015-666935
END:VEVENT

END:VCALENDAR
