BEGIN:VCALENDAR
VERSION:2.0
PRODID:-//ChamberMaster//Event Calendar 2.0//EN
METHOD:PUBLISH
X-PUBLISHED-TTL:P3D
REFRESH-INTERVAL:P3D
CALSCALE:GREGORIAN
BEGIN:VEVENT
DTSTART:20150519T163000Z
DTEND:20150519T180000Z
X-MICROSOFT-CDO-ALLDAYEVENT:FALSE
SUMMARY:2015 May Lunch & Learn - "The LEADERSHIP Connection" @ BBB
DESCRIPTION:Erik Therwanger - Author\, Speaker & Coach - will be teaching a class "The LEADERSHIP Connection - The Link Between Leading & Succeeding".  The success of each organization is based heavily on its leaders.  Unlock your team's leadership potential by understanding the Elite Purposes of every leader.\n\n* Enhance Perceptions\n\n* Elevate Priorities\n\n* Empower People\n\n* Exceed Possibilities\n\n\n\nTransform you team into leaders who are focused on great results!\n\n* Identify the difference between management and leadership\n\n* Develop a unifying culture that fosters an environment for success\n\n* Transform your current dialogue into crystal clear communication\n\n* Learn the art of delegation and work more "ON" your business\n\n\n\nAs a speaker and consultant\, Erik provides organizations with the competitive edge for accomplishing corporate goals and achieving greater results.  His training sessions provide team members with the tools needed to achieve new levels of success. \n\n\n\n$15 for chamber members / $25 for non-members\n\nMust RSVP to the Burnsville Chamber by Monday\, May 12   th
X-ALT-DESC;FMTTYPE=text/html:Erik Therwanger - Author\, Speaker &amp\; Coach - will be teaching a class &quot\;The LEADERSHIP Connection - The Link Between Leading &amp\; Succeeding&quot\;.&nbsp\; The success of each organization is based heavily on its leaders.&nbsp\; Unlock your team&#39\;s leadership potential by understanding the Elite Purposes of every leader.<br />\n* Enhance Perceptions<br />\n* Elevate Priorities<br />\n* Empower People<br />\n* Exceed Possibilities<br />\n<br />\nTransform you team into leaders who are focused on great results!<br />\n* Identify the difference between management and leadership<br />\n* Develop a unifying culture that fosters an environment for success<br />\n* Transform your current dialogue into crystal clear communication<br />\n* Learn the art of delegation and work more &quot\;ON&quot\; your business<br />\n<br />\nAs a speaker and consultant\, Erik provides organizations with the competitive edge for accomplishing corporate goals and achieving greater results.&nbsp\; His training sessions provide team members with the tools needed to achieve new levels of success.&nbsp\;<br />\n<br />\n$15 for chamber members / $25 for non-members<br />\nMust RSVP to the Burnsville Chamber by Monday\, May 12<span class="rangySelectionBoundary" id="selectionBoundary_1428349322911_8258148983495308" style="line-height: 0\; display: none\;">&iuml\;&raquo\;&iquest\;</span>th
LOCATION:Better Business Bureau 220 S River Ridge Circle Burnsville
UID:e.411.666931
SEQUENCE:3
DTSTAMP:20260424T155713Z
URL:http://dev.setupsite.burnsvillechamber.com/events/details/2015-may-lunch-learn-the-leadership-connection-bbb-05-19-2015-666931
END:VEVENT

END:VCALENDAR
