BEGIN:VCALENDAR
VERSION:2.0
PRODID:-//ChamberMaster//Event Calendar 2.0//EN
METHOD:PUBLISH
X-PUBLISHED-TTL:P3D
REFRESH-INTERVAL:P3D
CALSCALE:GREGORIAN
BEGIN:VEVENT
DTSTART:20151105T223000Z
DTEND:20151106T003000Z
X-MICROSOFT-CDO-ALLDAYEVENT:FALSE
SUMMARY:2015 November Business After Hours @ The Roasted Pear
DESCRIPTION:2015 November Business After Hours @ The Roasted Pear\n\nStop in and join other Burnsville Chamber members for a beverage and appetizers while you catch up with the latest Business Community events.
X-ALT-DESC;FMTTYPE=text/html:<span style="font-size: 16px\;"><strong>2015 November Business After Hours @ The Roasted Pear<br />\n<span style="font-size: 12px\;">Stop in and join other Burnsville Chamber members for a beverage and appetizers while you catch up with the latest Business Community events.</span></strong></span>
LOCATION:The Roasted Pear 14200 Nicollet Avenue Burnsville\, MN View A Map
UID:e.411.666992
SEQUENCE:3
DTSTAMP:20260424T064217Z
URL:http://dev.setupsite.burnsvillechamber.com/events/details/2015-november-business-after-hours-the-roasted-pear-11-05-2015-666992
END:VEVENT

END:VCALENDAR
