BEGIN:VCALENDAR
VERSION:2.0
PRODID:-//ChamberMaster//Event Calendar 2.0//EN
METHOD:PUBLISH
X-PUBLISHED-TTL:P3D
REFRESH-INTERVAL:P3D
CALSCALE:GREGORIAN
BEGIN:VEVENT
DTSTART:20151001T213000Z
DTEND:20151001T233000Z
X-MICROSOFT-CDO-ALLDAYEVENT:FALSE
SUMMARY:2015 October Business After Hours @ Outback Steakhouse
DESCRIPTION:2015 October Business After Hours @ Outback Steakhouse\, Burnsville\n\n\n\nOutback Steakhouse is best known for grilled steaks\, chicken and seafood\, and also offers a wide variety of crisp salads and freshly made soups and sides.\n\n\n\nIf you have never visited this establishment or it's been a while\, this is a great opportunity to check it out\, enjoy some refreshments and network with other Chamber members.
X-ALT-DESC;FMTTYPE=text/html:<strong><span style="font-size: 18px\;"><span style="font-family: comic sans ms\;">2015 October Business After Hours @ Outback Steakhouse\, Burnsville</span></span></strong><br />\n<br />\nOutback Steakhouse is best known for grilled steaks\, chicken and seafood\,&nbsp\;and also offers a wide variety of crisp salads and freshly made soups and sides.<br />\n<br />\nIf you have never visited this establishment or it&#39\;s been a while\, this is a great opportunity to check it out\, enjoy some refreshments and network with other Chamber members.
LOCATION:Outback Steakhouse 2034 W. County Road 42 Burnsville\, MN 55337
UID:e.411.666967
SEQUENCE:3
DTSTAMP:20260424T065852Z
URL:http://dev.setupsite.burnsvillechamber.com/events/details/2015-october-business-after-hours-outback-steakhouse-10-01-2015-666967
END:VEVENT

END:VCALENDAR
