BEGIN:VCALENDAR
VERSION:2.0
PRODID:-//ChamberMaster//Event Calendar 2.0//EN
METHOD:PUBLISH
X-PUBLISHED-TTL:P3D
REFRESH-INTERVAL:P3D
CALSCALE:GREGORIAN
BEGIN:VEVENT
DTSTART:20151208T163000Z
DTEND:20151208T163000Z
X-MICROSOFT-CDO-ALLDAYEVENT:FALSE
SUMMARY:2015 Ribbon Cutting @ JL Beers
DESCRIPTION:Save The Date!!\n\nRibbon Cutting @ JL Beers\n\nMore info to follow soon
X-ALT-DESC;FMTTYPE=text/html:<span style="font-size: 18px\;"><strong>Save The Date!!<br />\nRibbon Cutting @ JL Beers<br />\nMore info to follow soon</strong></span>
LOCATION:JL Beers 1230 County Road 42 Burnhill Plaza Shopping Center
UID:e.411.666997
SEQUENCE:3
DTSTAMP:20260424T032835Z
URL:http://dev.setupsite.burnsvillechamber.com/events/details/2015-ribbon-cutting-jl-beers-12-08-2015-666997
END:VEVENT

END:VCALENDAR
