BEGIN:VCALENDAR
VERSION:2.0
PRODID:-//ChamberMaster//Event Calendar 2.0//EN
METHOD:PUBLISH
X-PUBLISHED-TTL:P3D
REFRESH-INTERVAL:P3D
CALSCALE:GREGORIAN
BEGIN:VEVENT
DTSTART:20150910T213000Z
DTEND:20150910T233000Z
X-MICROSOFT-CDO-ALLDAYEVENT:FALSE
SUMMARY:2015 September Business After Hours @ Mediterranean Cruise Cafe
DESCRIPTION:2015 September Business After Hours @ Mediterranean  Cruise Cafe\n\nCome For the Food\, Stay for the Fun!\n\nNote that the date is set to coincide with the Burnsville Fire Muster
X-ALT-DESC;FMTTYPE=text/html:<span style="font-size: 16px\;"><strong>2015 September Business After Hours @ Mediterranean&nbsp\; Cruise Cafe</strong></span><br />\n<span style="font-size: 14px\;"><em>Come For the Food\, Stay for the Fun!</em></span><br />\nNote that the date is set to coincide with the Burnsville Fire Muster
LOCATION:12500 Nicollet Avenue Burnsville\, MN 55337
UID:e.411.666959
SEQUENCE:3
DTSTAMP:20260424T082517Z
URL:http://dev.setupsite.burnsvillechamber.com/events/details/2015-september-business-after-hours-mediterranean-cruise-cafe-09-10-2015-666959
END:VEVENT

END:VCALENDAR
