BEGIN:VCALENDAR
VERSION:2.0
PRODID:-//ChamberMaster//Event Calendar 2.0//EN
METHOD:PUBLISH
X-PUBLISHED-TTL:P3D
REFRESH-INTERVAL:P3D
CALSCALE:GREGORIAN
BEGIN:VEVENT
DTSTART:20150915T163000Z
DTEND:20150915T180000Z
X-MICROSOFT-CDO-ALLDAYEVENT:FALSE
SUMMARY:2015 September Lunch and Learn @ Renewal By Anderson
DESCRIPTION:2015 September Lunch and Learn @ Renewal By Anderson\n\n"Window Replacement 101"\n\nJoin us to learn the basics of window and door replacement.  We'll highlight\; What problems to look for\, what kinds of installations are available\, window and door frame types\, and the Renewal by Andersen products available.  There will be a tour of the showroom's displayed products and questions and answers.
X-ALT-DESC;FMTTYPE=text/html:<p>2015 September Lunch and Learn @ Renewal By Anderson<br />\n&quot\;Window Replacement 101&quot\;<br />\n<span style="color: rgb(31\, 73\, 125)\;"><font face="Calibri" size="3">Join us to learn&nbsp\;the basics of window and door replacement.&nbsp\; We&rsquo\;ll highlight\; What problems to look for\, what kinds of installations are available\, window and door frame types\, and the Renewal by Andersen products available.&nbsp\; There will be a tour of the showroom&rsquo\;s displayed products and questions and answers.&nbsp\; </font></span></p>\n
LOCATION:14270 Buck Hill Road #130 Burnsville\, MN 55306
UID:e.411.666963
SEQUENCE:3
DTSTAMP:20260424T082414Z
URL:http://dev.setupsite.burnsvillechamber.com/events/details/2015-september-lunch-and-learn-renewal-by-anderson-09-15-2015-666963
END:VEVENT

END:VCALENDAR
