BEGIN:VCALENDAR
VERSION:2.0
PRODID:-//ChamberMaster//Event Calendar 2.0//EN
METHOD:PUBLISH
X-PUBLISHED-TTL:P3D
REFRESH-INTERVAL:P3D
CALSCALE:GREGORIAN
BEGIN:VEVENT
DTSTART:20150211T173000Z
DTEND:20150211T190000Z
X-MICROSOFT-CDO-ALLDAYEVENT:FALSE
SUMMARY:2015 State of the City Address
DESCRIPTION:Burnsville residents\, business leaders and others interested in learning more about the direction of the City are invited to the annual State of the City Address with keynote speaker Mayor Elizabeth Kautz.\n\n\n\nThe Burnsville Chamber will offer a luncheon following.
X-ALT-DESC;FMTTYPE=text/html:<span style="font-size:14px\;"><span style="font-family:verdana\;">Burnsville residents\, business leaders and others interested in learning more about the direction of the City are invited to the annual State of the City Address with keynote speaker Mayor&nbsp\;Elizabeth Kautz.<br />\n<br />\nThe Burnsville Chamber will offer a luncheon following.</span></span>
LOCATION:Ames Center 12600 Nicollet Ave. Burnsville\, MN 55337
UID:e.411.666897
SEQUENCE:3
DTSTAMP:20260424T210959Z
URL:http://dev.setupsite.burnsvillechamber.com/events/details/2015-state-of-the-city-address-02-11-2015-666897
END:VEVENT

END:VCALENDAR
