BEGIN:VCALENDAR
VERSION:2.0
PRODID:-//ChamberMaster//Event Calendar 2.0//EN
METHOD:PUBLISH
X-PUBLISHED-TTL:P3D
REFRESH-INTERVAL:P3D
CALSCALE:GREGORIAN
BEGIN:VEVENT
DTSTART:20160407T213000Z
DTEND:20160407T233000Z
X-MICROSOFT-CDO-ALLDAYEVENT:FALSE
SUMMARY:2016 April Business After Hours @ Racks Sportsbar
DESCRIPTION:2016 April Business After Hours @ Racks Sportsbar
X-ALT-DESC;FMTTYPE=text/html:<div style="text-align: center\;">2016 April Business After Hours @ Racks Sportsbar<br />\n&nbsp\;</div>\n
LOCATION:Racks Sportsbar 2400 Cliff Road East Burnsville\, MN 55337 View A Map
UID:e.411.667045
SEQUENCE:3
DTSTAMP:20260423T202154Z
URL:http://dev.setupsite.burnsvillechamber.com/events/details/2016-april-business-after-hours-racks-sportsbar-04-07-2016-667045
END:VEVENT

END:VCALENDAR
