BEGIN:VCALENDAR
VERSION:2.0
PRODID:-//ChamberMaster//Event Calendar 2.0//EN
METHOD:PUBLISH
X-PUBLISHED-TTL:P3D
REFRESH-INTERVAL:P3D
CALSCALE:GREGORIAN
BEGIN:VEVENT
DTSTART:20160411T170000Z
DTEND:20160411T230000Z
X-MICROSOFT-CDO-ALLDAYEVENT:FALSE
SUMMARY:2016 April Twins Home Opener Game & Tailgate SOLD OUT
DESCRIPTION:MN Twins Home Opener\n\nGame & Tailgate Party
X-ALT-DESC;FMTTYPE=text/html:<strong>MN Twins Home Opener</strong><br />\nGame &amp\; Tailgate Party<br />\n&nbsp\;
LOCATION:Tailgate at Farmers Market Annex (covered pavilion)
UID:e.411.667039
SEQUENCE:3
DTSTAMP:20260423T202028Z
URL:http://dev.setupsite.burnsvillechamber.com/events/details/2016-april-twins-home-opener-game-tailgate-sold-out-04-11-2016-667039
END:VEVENT

END:VCALENDAR
