BEGIN:VCALENDAR
VERSION:2.0
PRODID:-//ChamberMaster//Event Calendar 2.0//EN
METHOD:PUBLISH
X-PUBLISHED-TTL:P3D
REFRESH-INTERVAL:P3D
CALSCALE:GREGORIAN
BEGIN:VEVENT
DTSTART:20160816T213000Z
DTEND:20160816T233000Z
X-MICROSOFT-CDO-ALLDAYEVENT:FALSE
SUMMARY:2016 August Women Empowered Network Social
DESCRIPTION:Women Empowered\n\nNetwork Social\n\n\n\nJoin us to kick off the Women Empowered program!\n\n\n\nThis Network Social event will include appetizers\, cash bar\, networking and an opportunity to learn from owner Jamal Ansari about the culture behind the amazing food at Mediterranean Cruise Cafe and the philosophy that has driven their business success.
X-ALT-DESC;FMTTYPE=text/html:<br />\n<span style="font-size:20px\;"><strong>Women Empowered</strong></span><br />\nNetwork Social<br />\n<br />\n<strong>Join us to kick off the Women Empowered program!</strong><br />\n<br />\nThis Network Social event will include appetizers\, cash bar\, networking and an opportunity to learn from owner Jamal Ansari&nbsp\;about the culture behind the amazing food at Mediterranean Cruise Cafe and the philosophy that has driven their business success.
LOCATION:Mediterranean Cruise Cafe 12500 Nicollet Avenue
UID:e.411.667081
SEQUENCE:3
DTSTAMP:20260423T131027Z
URL:http://dev.setupsite.burnsvillechamber.com/events/details/2016-august-women-empowered-network-social-08-16-2016-667081
END:VEVENT

END:VCALENDAR
