BEGIN:VCALENDAR
VERSION:2.0
PRODID:-//ChamberMaster//Event Calendar 2.0//EN
METHOD:PUBLISH
X-PUBLISHED-TTL:P3D
REFRESH-INTERVAL:P3D
CALSCALE:GREGORIAN
BEGIN:VEVENT
DTSTART;VALUE=DATE:20160620
DTEND;VALUE=DATE:20160621
TRANSP:TRANSPARENT
X-MICROSOFT-CDO-ALLDAYEVENT:TRUE
SUMMARY:2016 Burnsville Chamber Golf Classic
DESCRIPTION:2016 Burnsville Chamber Golf Classic\n\nMonday\, June 20\, 2016\n\n11:00 Lunch\n\n12:00 Shotgun start\n\n5:30 Social\, Dinner\, Awards\n\n\n\nClick HERE for information on sponsorship or silent auction donation. Contact the Chamber at 952.435.6000 to secure your spot today!
X-ALT-DESC;FMTTYPE=text/html:<h2>2016 Burnsville Chamber Golf Classic<br />\nMonday\, June 20\, 2016</h2>\n\n<p class="MsoNormal">11:00 Lunch</p>\n\n<p class="MsoNormal">12:00 Shotgun start</p>\n\n<p class="MsoNormal">5:30 Social\, Dinner\, Awards<br />\n<br />\n<span style="color: rgb(68\, 68\, 68)\; font-family: Georgia\, 'Bitstream Charter'\, serif\; font-size: 16px\; line-height: 24px\;">Click<a href="https://chambermaster.blob.core.windows.net/userfiles/UserFiles/chambers/411/File/GolfClassicSponsorship_2016_3.pdf">&nbsp\;</a></span><strong style="font-family: Georgia\, 'Bitstream Charter'\, serif\; color: rgb(0\, 0\, 0)\; line-height: 24px\; font-size: 16px\;"><a href="https://chambermaster.blob.core.windows.net/userfiles/UserFiles/chambers/411/File/GolfClassicSponsorship_2016_5.pdf" target="_blank"><span data-mce-style="text-decoration: underline\;" style="color: rgb(68\, 68\, 68)\; line-height: 1.5\; text-decoration: underline\;">HERE</span></a>&nbsp\;</strong><span style="color: rgb(68\, 68\, 68)\; font-family: Georgia\, 'Bitstream Charter'\, serif\; font-size: 16px\; line-height: 24px\;">for information on sponsorship or silent auction&nbsp\;donation. Contact the Chamber at 952.435.6000 to secure your spot today!</span></p>\n<br />\n<br />\n&nbsp\;
LOCATION:The Legends Golf Club 8670 Credit River Blvd Prior Lake\, MN 55372 View A Map
UID:e.411.666974
SEQUENCE:3
DTSTAMP:20260423T165525Z
URL:http://dev.setupsite.burnsvillechamber.com/events/details/2016-burnsville-chamber-golf-classic-06-20-2016-666974
END:VEVENT

END:VCALENDAR
