BEGIN:VCALENDAR
VERSION:2.0
PRODID:-//ChamberMaster//Event Calendar 2.0//EN
METHOD:PUBLISH
X-PUBLISHED-TTL:P3D
REFRESH-INTERVAL:P3D
CALSCALE:GREGORIAN
BEGIN:VEVENT
DTSTART:20160913T121500Z
DTEND:20160913T140000Z
X-MICROSOFT-CDO-ALLDAYEVENT:FALSE
SUMMARY:2016 Candidate Forum - Burnsville City Council
DESCRIPTION:Burnsville City Council Candidate Forum\n\n\n\nWant to be informed this election season? Start by meeting the four candidates running for Burnsville City Council:\n\n\n\n    Jim Bradrick\n\n    Dan Gustafson\n\n    Robin G. Harris\n\n    Cara Schulz\n\n\n\nJoin us to learn more about the views of these four candidates.\n\n\n\nThis event will be recorded by BCTV and run on cable television for later viewing.
X-ALT-DESC;FMTTYPE=text/html:<br />\n<span style="font-size:24px\;"><strong>Burnsville City Council Candidate Forum</strong></span><br />\n<br />\n<span style="font-size:14px\;">Want to be informed this election season? Start by meeting the four candidates running for Burnsville City Council:<br />\n<br />\n&nbsp\;&nbsp\;&nbsp\;&nbsp\;Jim Bradrick<br />\n&nbsp\;&nbsp\;&nbsp\;&nbsp\;Dan Gustafson<br />\n&nbsp\;&nbsp\;&nbsp\;&nbsp\;Robin G. Harris<br />\n&nbsp\;&nbsp\;&nbsp\;&nbsp\;Cara Schulz<br />\n<br />\nJoin us to learn more about the views of these four candidates.</span><br />\n<br />\n<em><span style="font-size:12px\;">This event will be recorded by BCTV and run on cable television for later viewing.</span></em>
LOCATION:Burnsville City Hall 100 Civic Center Parkway Burnsville\, MN 55337
UID:e.411.667087
SEQUENCE:3
DTSTAMP:20260423T120954Z
URL:http://dev.setupsite.burnsvillechamber.com/events/details/2016-candidate-forum-burnsville-city-council-667087
END:VEVENT

END:VCALENDAR
