BEGIN:VCALENDAR
VERSION:2.0
PRODID:-//ChamberMaster//Event Calendar 2.0//EN
METHOD:PUBLISH
X-PUBLISHED-TTL:P3D
REFRESH-INTERVAL:P3D
CALSCALE:GREGORIAN
BEGIN:VEVENT
DTSTART:20160920T121500Z
DTEND:20160920T140000Z
X-MICROSOFT-CDO-ALLDAYEVENT:FALSE
SUMMARY:2016 Candidate Forum - Burnsville Legislative Offices
DESCRIPTION:Legislative Candidate Forum\n\n\n\nWant to be informed this election season? Start by the candidates running to represent Burnsville at the State Capitol:\n\n\n\nState Senate District 51\n\nJim Carlson\n\nVictor Lake\n\n \n\nState Senate District 56\n\nDan Hall\n\nPhil Sterner\n\n \n\nState Representative District 51A\n\nSandra Masin\n\nBrad Gerten\n\n \n\nState Representative District 56A\n\nDrew Christensen\n\nJarod Christianson\n\n \n\nState Representative Disctrict 56B\n\nRoz Peterson\n\nLindsay Port\n\n\n\nJoin us to learn more about the views of these candidates.\n\n\n\nThis event will be recorded by BCTV and run on cable television for later viewing.
X-ALT-DESC;FMTTYPE=text/html:<br />\n<span style="font-size:24px\;"><strong>Legislative Candidate Forum</strong></span><br />\n<br />\n<span style="font-size:14px\;">Want to be informed this election season? Start by the candidates running to represent Burnsville at the State Capitol:</span><br />\n<br />\n<strong>State Senate District 51</strong><br />\nJim Carlson<br />\nVictor Lake<br />\n&nbsp\;<br />\n<strong>State Senate District 56</strong><br />\nDan Hall<br />\nPhil Sterner<br />\n&nbsp\;<br />\n<strong>State Representative District 51A</strong><br />\nSandra Masin<br />\nBrad Gerten<br />\n&nbsp\;<br />\n<strong>State Representative District 56A</strong><br />\nDrew Christensen<br />\nJarod Christianson<br />\n&nbsp\;<br />\n<strong>State Representative Disctrict 56B</strong><br />\nRoz Peterson<br />\nLindsay Port<br />\n<br />\n<span style="font-size:14px\;">Join us to learn more about the views of these candidates.</span><br />\n<br />\n<em><span style="font-size:12px\;">This event will be recorded by BCTV and run on cable television for later viewing.</span></em>
LOCATION:Burnsville City Hall 100 Civic Center Parkway Burnsville\, MN 55337
UID:e.411.667088
SEQUENCE:3
DTSTAMP:20260423T112243Z
URL:http://dev.setupsite.burnsvillechamber.com/events/details/2016-candidate-forum-burnsville-legislative-offices-667088
END:VEVENT

END:VCALENDAR
