BEGIN:VCALENDAR
VERSION:2.0
PRODID:-//ChamberMaster//Event Calendar 2.0//EN
METHOD:PUBLISH
X-PUBLISHED-TTL:P3D
REFRESH-INTERVAL:P3D
CALSCALE:GREGORIAN
BEGIN:VEVENT
DTSTART:20160204T223000Z
DTEND:20160205T003000Z
X-MICROSOFT-CDO-ALLDAYEVENT:FALSE
SUMMARY:2016 February Business After Hours @ Rudy's Redeye Grill
DESCRIPTION:2016 February Business After Hours\n\nA great way to end the day!
X-ALT-DESC;FMTTYPE=text/html:<div style="text-align: center\;">&nbsp\;</div>\n\n<h2 style="text-align: center\;">2016 February Business After Hours<br />\nA great way to end the day!</h2>\n
LOCATION:Ruby's Redeye Grill 20800 Kenrick Avenue Lakeville\, MN 55044
UID:e.411.667022
SEQUENCE:3
DTSTAMP:20260424T002036Z
URL:http://dev.setupsite.burnsvillechamber.com/events/details/2016-february-business-after-hours-rudy-s-redeye-grill-02-04-2016-667022
END:VEVENT

END:VCALENDAR
