BEGIN:VCALENDAR
VERSION:2.0
PRODID:-//ChamberMaster//Event Calendar 2.0//EN
METHOD:PUBLISH
X-PUBLISHED-TTL:P3D
REFRESH-INTERVAL:P3D
CALSCALE:GREGORIAN
BEGIN:VEVENT
DTSTART:20160623T130000Z
DTEND:20160623T140000Z
X-MICROSOFT-CDO-ALLDAYEVENT:FALSE
SUMMARY:2016 June Chamber 101
DESCRIPTION:Chamber 101 is the perfect opportunity for you to learn more about the Chamber Staff and how you can utilize your Membership to the fullest!
X-ALT-DESC;FMTTYPE=text/html:Chamber 101 is the perfect opportunity for you to learn more about the Chamber Staff and how you can utilize your Membership to the fullest!
LOCATION:Chamber Office 350 West Burnsville Parkway #425 Burnsville\, MN 55337
UID:e.411.667067
SEQUENCE:3
DTSTAMP:20260423T165443Z
URL:http://dev.setupsite.burnsvillechamber.com/events/details/2016-june-chamber-101-06-23-2016-667067
END:VEVENT

END:VCALENDAR
