BEGIN:VCALENDAR
VERSION:2.0
PRODID:-//ChamberMaster//Event Calendar 2.0//EN
METHOD:PUBLISH
X-PUBLISHED-TTL:P3D
REFRESH-INTERVAL:P3D
CALSCALE:GREGORIAN
BEGIN:VEVENT
DTSTART:20161018T163000Z
DTEND:20161018T180000Z
X-MICROSOFT-CDO-ALLDAYEVENT:FALSE
SUMMARY:2016 October Women Empowered Luncheon
DESCRIPTION:Women Empowered
X-ALT-DESC;FMTTYPE=text/html:<br />\n<span style="font-size:20px\;"><strong>Women Empowered</strong></span>
LOCATION:Buca di Beppo
UID:e.411.667092
SEQUENCE:3
DTSTAMP:20260423T092127Z
URL:http://dev.setupsite.burnsvillechamber.com/events/details/2016-october-women-empowered-luncheon-667092
END:VEVENT

END:VCALENDAR
