BEGIN:VCALENDAR
VERSION:2.0
PRODID:-//ChamberMaster//Event Calendar 2.0//EN
METHOD:PUBLISH
X-PUBLISHED-TTL:P3D
REFRESH-INTERVAL:P3D
CALSCALE:GREGORIAN
BEGIN:VEVENT
DTSTART:20160928T170000Z
DTEND:20160928T180000Z
X-MICROSOFT-CDO-ALLDAYEVENT:FALSE
SUMMARY:2016 Ribbon Cutting - River Valley Church
DESCRIPTION:Ribbon Cutting
X-ALT-DESC;FMTTYPE=text/html:<h2 style="text-align: center\;">Ribbon Cutting</h2>\n
LOCATION:River Valley Church 12345 Portland Ave Burnsville\, MN 55337
UID:e.411.667086
SEQUENCE:3
DTSTAMP:20260423T112953Z
URL:http://dev.setupsite.burnsvillechamber.com/events/details/2016-ribbon-cutting-river-valley-church-667086
END:VEVENT

END:VCALENDAR
