BEGIN:VCALENDAR
VERSION:2.0
PRODID:-//ChamberMaster//Event Calendar 2.0//EN
METHOD:PUBLISH
X-PUBLISHED-TTL:P3D
REFRESH-INTERVAL:P3D
CALSCALE:GREGORIAN
BEGIN:VEVENT
DTSTART:20161111T140000Z
DTEND:20161111T160000Z
X-MICROSOFT-CDO-ALLDAYEVENT:FALSE
SUMMARY:2016 Ribbon Cutting - The Original Pancake House
DESCRIPTION:Please join us for The Original Pancake House Ribbon Cutting & soft opening for friends and family!\n\n\n\nThen stay for a delicious breakfast!\n\n\n\n"Breakfast and lunch restaurant serving high quality food prepared daily using fresh ingredients"
X-ALT-DESC;FMTTYPE=text/html:Please join us for The Original Pancake House Ribbon Cutting &amp\; soft opening for friends and family!<br />\n<br />\nThen stay for a delicious breakfast!<br />\n<br />\n&quot\;Breakfast and lunch restaurant serving high quality food prepared daily using fresh ingredients&quot\;
LOCATION:The Original Pancake House 14351 Nicollet Court Burnsville\, MN 55306
UID:e.411.667119
SEQUENCE:3
DTSTAMP:20260423T074318Z
URL:http://dev.setupsite.burnsvillechamber.com/events/details/2016-ribbon-cutting-the-original-pancake-house-667119
END:VEVENT

END:VCALENDAR
