BEGIN:VCALENDAR
VERSION:2.0
PRODID:-//ChamberMaster//Event Calendar 2.0//EN
METHOD:PUBLISH
X-PUBLISHED-TTL:P3D
REFRESH-INTERVAL:P3D
CALSCALE:GREGORIAN
BEGIN:VEVENT
DTSTART:20160915T213000Z
DTEND:20160915T233000Z
X-MICROSOFT-CDO-ALLDAYEVENT:FALSE
SUMMARY:2016 September Business After Hours @ Morgan's
DESCRIPTION:September Business After Hours\n\n@ Morgan's \n\n4:30 - 6:30 PM
X-ALT-DESC;FMTTYPE=text/html:<div style="text-align: center\;"><br />\nSeptember Business After Hours<br />\n@ Morgan&#39\;s&nbsp\;<br />\n4:30 - 6:30 PM<br />\n<br />\n&nbsp\;</div>\n\n<div style="text-align: center\;">&nbsp\;</div>\n
LOCATION:Morgan's 14201 Nicollet Avenue South Burnsville\, MN 55337 http://www.morgansfarmtotable.com/
UID:e.411.667091
SEQUENCE:3
DTSTAMP:20260423T112410Z
URL:http://dev.setupsite.burnsvillechamber.com/events/details/2016-september-business-after-hours-morgan-s-667091
END:VEVENT

END:VCALENDAR
