BEGIN:VCALENDAR
VERSION:2.0
PRODID:-//ChamberMaster//Event Calendar 2.0//EN
METHOD:PUBLISH
X-PUBLISHED-TTL:P3D
REFRESH-INTERVAL:P3D
CALSCALE:GREGORIAN
BEGIN:VEVENT
DTSTART:20160928T163000Z
DTEND:20160928T180000Z
X-MICROSOFT-CDO-ALLDAYEVENT:FALSE
SUMMARY:2016 SMYPro's Innovative Solutions Luncheon
DESCRIPTION:Join us at Innovative Office Solutions for our September event!  Enjoy networking\, lunch\, a tour of the facility and hear from the young professional\, Max Smith\, who started the InSports Foundation.  The InSports Foundations is a non-profit organization that provides sports-related financial and coaching assistance to disadvantaged youth\, enabling them to become active\, confident\, team members of their community through involvement in sports!
X-ALT-DESC;FMTTYPE=text/html:Join us at Innovative Office Solutions for our September event! &nbsp\;Enjoy networking\, lunch\, a tour of the facility and hear from the young professional\, Max Smith\, who started the InSports Foundation. &nbsp\;The InSports Foundations is a non-profit organization that provides sports-related financial and coaching assistance to disadvantaged youth\, enabling them to become active\, confident\, team members of their community through involvement in sports!
LOCATION:Innovative Office Solutions 151 Cliff Road East Burnsville\, MN 55337
UID:e.411.667096
SEQUENCE:3
DTSTAMP:20260423T112157Z
URL:http://dev.setupsite.burnsvillechamber.com/events/details/2016-smypro-s-innovative-solutions-luncheon-667096
END:VEVENT

END:VCALENDAR
