BEGIN:VCALENDAR
VERSION:2.0
PRODID:-//ChamberMaster//Event Calendar 2.0//EN
METHOD:PUBLISH
X-PUBLISHED-TTL:P3D
REFRESH-INTERVAL:P3D
CALSCALE:GREGORIAN
BEGIN:VEVENT
DTSTART:20170425T130000Z
DTEND:20170425T140000Z
X-MICROSOFT-CDO-ALLDAYEVENT:FALSE
SUMMARY:2017 April Chamber 101
DESCRIPTION:Chamber 101\n\n\n\nAre you new to the Chamber and curious how you can maximize your exciting membership?  Have you been a member for awhile\, but now able to get back out to network?  \n\n\n\nWe're hosting a Chamber 101 for us to learn more about you and for you to learn more about your Chamber and operations.\n\n\n\nIn the Chamber 101 we will go over how to manage your account online\, how you can get involved to find your passion and most importantly start building our partnership.
X-ALT-DESC;FMTTYPE=text/html:Chamber 101<br />\n<br />\nAre you new to the Chamber and curious how you can maximize your exciting membership? &nbsp\;Have you been a member for awhile\, but now able to get back out to network? &nbsp\;<br />\n<br />\nWe&#39\;re hosting a Chamber 101 for us to learn more about you and for you to learn more about your Chamber and operations.<br />\n<br />\nIn the Chamber 101 we will go over how to manage your account online\, how you can get involved to find your passion and most importantly start building our partnership.
LOCATION:Burnsville Chamber Office Gateway Building 350 West Burnsville Parkway #425 Burnsville\, MN 55337
UID:e.411.667185
SEQUENCE:3
DTSTAMP:20260422T230304Z
URL:http://dev.setupsite.burnsvillechamber.com/events/details/2017-april-chamber-101-667185
END:VEVENT

END:VCALENDAR
