BEGIN:VCALENDAR
VERSION:2.0
PRODID:-//ChamberMaster//Event Calendar 2.0//EN
METHOD:PUBLISH
X-PUBLISHED-TTL:P3D
REFRESH-INTERVAL:P3D
CALSCALE:GREGORIAN
BEGIN:VEVENT
DTSTART:20170418T163000Z
DTEND:20170418T180000Z
X-MICROSOFT-CDO-ALLDAYEVENT:FALSE
SUMMARY:2017 April Chamber Luncheon at Legends Golf Club
DESCRIPTION:Chamber Luncheon\n\n\n\nPlease join us in welcoming Joe Schmit to our April Chamber Luncheon.\n\n\n\nJoe Schmit joined KSTP_TV in 1985 and has won 17 Emmys from the National Television Academy.  He was also honored with a National headliner Award for leading 5 EYEWITNESS NEWS' coverage of the 2001 death of Minnesota Vikings offensive lineman\, Kory Stringer.  Joe is also a regular contributor on 1500 ESPN radio.  He has written his first book\, "Silent Impact:  Influence Through Purpose\, Persistence\, and Passion" and is popular keynote speaker.\n\n\n\nBefore joining the station in 1985\, he was Sports Director for WBAY_TV in Green Bay\, Wisconsin.  His career also includes positions as weekend sports anchor for KCRG_TV in Cedar Rapids\, Iowa and WKBT_TV in la Crosse\, Wisconsin.  Joe earned his degree in Mass Communication from the University of Wisconsin - La Crosse.
X-ALT-DESC;FMTTYPE=text/html:Chamber Luncheon<br />\n<br />\nPlease join us in welcoming Joe Schmit&nbsp\;to our April Chamber Luncheon.<br />\n<br />\nJoe Schmit joined&nbsp\;KSTP_TV in 1985 and has won 17 Emmys from the National Television Academy. &nbsp\;He was also honored with a National headliner Award for leading 5 EYEWITNESS NEWS&#39\; coverage of the 2001 death of Minnesota Vikings offensive lineman\, Kory Stringer. &nbsp\;Joe is also a regular contributor on 1500 ESPN radio. &nbsp\;He has written his first book\, &quot\;Silent Impact: &nbsp\;Influence Through Purpose\, Persistence\, and Passion&quot\; and is popular keynote speaker.<br />\n<br />\nBefore joining the station in 1985\, he was Sports Director for WBAY_TV in Green Bay\, Wisconsin. &nbsp\;His career also includes positions as weekend sports anchor for KCRG_TV in Cedar Rapids\, Iowa and WKBT_TV in la Crosse\, Wisconsin. &nbsp\;Joe earned his degree in Mass Communication from the University of Wisconsin - La Crosse.
LOCATION:Legends Golf Club 8670 Credit River Blvd Prior Lake\, MN 55372
UID:e.411.667174
SEQUENCE:3
DTSTAMP:20260422T230608Z
URL:http://dev.setupsite.burnsvillechamber.com/events/details/2017-april-chamber-luncheon-at-legends-golf-club-667174
END:VEVENT

END:VCALENDAR
