BEGIN:VCALENDAR
VERSION:2.0
PRODID:-//ChamberMaster//Event Calendar 2.0//EN
METHOD:PUBLISH
X-PUBLISHED-TTL:P3D
REFRESH-INTERVAL:P3D
CALSCALE:GREGORIAN
BEGIN:VEVENT
DTSTART:20170308T160000Z
DTEND:20170309T000000Z
X-MICROSOFT-CDO-ALLDAYEVENT:FALSE
SUMMARY:2017 Business Day at the Capitol
DESCRIPTION:2017 Business Day at the Capitol\n\nWednesday\, March 8\, 2017\n\nThe legislative issues affecting Minnesota businesses are important to you. That's why the Burnsville Chamber is providing you an opportunity this year to talk face-to-face with your legislators about these issues. \n\nJoin your peers to advance your priorities face-to-face with legislators. Get briefed on the issues\, and then ride buses to the Capitol for prearranged legislative appointments. Afterward\, return by bus for an informal reception. Share where your legislators stand on the issues while networking with business associates from around the state.\n\n\nThis event is in partnership with the Minnesota Chamber of Commerce and the Burnsville Chamber of Commerce.\n\nAGENDA\n\n10:45 a.m. | Optional pre-session | Lobbying 101 and Issue Briefing\n\n11:30 a.m. | Registration and Networking\n\n12:00 p.m. | Lunch\n\n12:45 p.m. | Keynote plus Q&A\n\n1:45 p.m. | Bus leaves to Capitol\n\n2:00 p.m. | Activities at the Capitol: Capitol tours\, Key Leader briefings\, legislative appointments\n\n4:00 p.m.| Buses return to the hotel\n\n4:00 p.m. | Reception at InterContinental\n\n6:30 p.m. | Adjourn
X-ALT-DESC;FMTTYPE=text/html:<div style="text-align: center\;"><br />\n<strong><span style="font-size:14px\;"><span style="font-family:tahoma\;">2017&nbsp\;Business Day&nbsp\;at the Capitol<br />\nWednesday\, March 8\, 2017</span></span></strong></div>\n\n<p><span style="font-family:tahoma\;"><span style="font-size:12px\;">The legislative issues affecting Minnesota b</span>usinesses are important to you. That&#39\;s why the Burnsville Chamber is providing you an opportunity this year to talk face-to-face with your legislators about these issues.&nbsp\;</span></p>\n\n<div align="left"><span style="font-family:tahoma\;">Join your peers to advance your priorities face-to-face with legislators. Get briefed on the issues\, and then ride buses to the Capitol for prearranged legislative appointments. Afterward\, return by bus for an informal reception. Share where your legislators stand on the issues while networking with business associates from around the state.</span></div>\n\n<div align="left">\n<p><span style="font-family:tahoma\;"><em>This event is in partnership with the Minnesota Chamber of Commerce and the Burnsville Chamber of Commerce.</em></span></p>\n\n<p style="text-align: center\;"><span style="font-family:tahoma\;"><strong>AGENDA</strong></span></p>\n\n<p><span style="font-family:tahoma\;">10:45 a.m.&nbsp\;| Optional pre-session | Lobbying 101 and Issue Briefing<br />\n11:30&nbsp\;a.m. | Registration and Networking<br />\n12:00 p.m. | Lunch<br />\n12:45 p.m. | Keynote plus Q&amp\;A<br />\n1:45 p.m. | Bus leaves to Capitol<br />\n2:00 p.m. | Activities at the Capitol: Capitol tours\, Key Leader briefings\, legislative appointments<br />\n4:00 p.m.| Buses return to the hotel<br />\n4:00 p.m. | Reception at InterContinental<br />\n6:30 p.m. | Adjourn</span></p>\n</div>\n
LOCATION:InterContinental St. Paul Riverfront 11 E Kellogg Blvd St. Paul\, MN 55101
UID:e.411.667178
SEQUENCE:3
DTSTAMP:20260423T024357Z
URL:http://dev.setupsite.burnsvillechamber.com/events/details/2017-business-day-at-the-capitol-667178
END:VEVENT

END:VCALENDAR
