BEGIN:VCALENDAR
VERSION:2.0
PRODID:-//ChamberMaster//Event Calendar 2.0//EN
METHOD:PUBLISH
X-PUBLISHED-TTL:P3D
REFRESH-INTERVAL:P3D
CALSCALE:GREGORIAN
BEGIN:VEVENT
DTSTART:20170202T223000Z
DTEND:20170203T003000Z
X-MICROSOFT-CDO-ALLDAYEVENT:FALSE
SUMMARY:2017 February Business After Hours Morgan's Farm to Table
DESCRIPTION:Join us for a Business After Hours hosted by Morgan's Farm to Table.\n\n\n\nValentine's Day is right around the corner...I wonder what Morgan's will have up their sleeve???
X-ALT-DESC;FMTTYPE=text/html:Join us for a Business After Hours hosted by Morgan&#39\;s Farm to Table.<br />\n<br />\nValentine&#39\;s Day is right around the corner...I wonder what Morgan&#39\;s will have up their sleeve???
LOCATION:Morgan's Farm to Table 14201 Nicollet Ave. South Burnsville\, MN 55337
UID:e.411.667142
SEQUENCE:3
DTSTAMP:20260423T024542Z
URL:http://dev.setupsite.burnsvillechamber.com/events/details/2017-february-business-after-hours-morgan-s-farm-to-table-667142
END:VEVENT

END:VCALENDAR
