BEGIN:VCALENDAR
VERSION:2.0
PRODID:-//ChamberMaster//Event Calendar 2.0//EN
METHOD:PUBLISH
X-PUBLISHED-TTL:P3D
REFRESH-INTERVAL:P3D
CALSCALE:GREGORIAN
BEGIN:VEVENT
DTSTART:20170111T140000Z
DTEND:20170112T030000Z
X-MICROSOFT-CDO-ALLDAYEVENT:FALSE
SUMMARY:2017 January AM Coffee Break Inspiration Design Center
DESCRIPTION:Enjoy a hot cup of coffee and meet some great new people at the first 2017 AM Coffee Break at Inspiration Design Center.
X-ALT-DESC;FMTTYPE=text/html:Enjoy a hot cup of coffee and meet some great new people at the first 2017 AM Coffee Break at Inspiration Design Center.
LOCATION:Inspiration Design Center 2200 Minnesota 13 West Burnsville\, MN 55337
UID:e.411.667125
SEQUENCE:3
DTSTAMP:20260423T060918Z
URL:http://dev.setupsite.burnsvillechamber.com/events/details/2017-january-am-coffee-break-inspiration-design-center-667125
END:VEVENT

END:VCALENDAR
